BEGIN:VCALENDAR
VERSION:2.0
PRODID:-//ChamberMaster//Event Calendar 2.0//EN
METHOD:PUBLISH
X-PUBLISHED-TTL:P3D
REFRESH-INTERVAL:P3D
CALSCALE:GREGORIAN
BEGIN:VEVENT
DTSTART:20170802T163000Z
DTEND:20170802T170000Z
X-MICROSOFT-CDO-ALLDAYEVENT:FALSE
SUMMARY:Business of the Month Presentation
DESCRIPTION:Greater Grays Harbor\, Inc. will be honoring Durney Insurance with the title of August Business of the Month! We'd love for you to show your support for this local business and help us congratulate them on their 73rd year of service to clients throughout the states of Washington\, Oregon\, Idaho\, California\, and Arizona.\n\n\n\nLearn more about their business here: www.durney.com
X-ALT-DESC;FMTTYPE=text/html:<span style="color: rgb(75\, 79\, 86)\; font-family: Helvetica\, Arial\, sans-serif\; font-size: 14px\; background-color: rgb(255\, 255\, 255)\;">Greater Grays Harbor\, Inc. will be honoring Durney Insurance with the title of August Business of the Month! We&#39\;d love for you to show your support for this local business and help us congratulate them on their 73rd year of service to clients throughout the states of Washington\, Oregon\, Idaho\, California\, and Arizona.</span><br style="color: rgb(75\, 79\, 86)\; font-family: Helvetica\, Arial\, sans-serif\; font-size: 14px\; background-color: rgb(255\, 255\, 255)\;" />\n<br style="color: rgb(75\, 79\, 86)\; font-family: Helvetica\, Arial\, sans-serif\; font-size: 14px\; background-color: rgb(255\, 255\, 255)\;" />\n<span style="color: rgb(75\, 79\, 86)\; font-family: Helvetica\, Arial\, sans-serif\; font-size: 14px\; background-color: rgb(255\, 255\, 255)\;">Learn more about their business here:&nbsp\;</span><a href="https://l.facebook.com/l.php?u=http%3A%2F%2Fwww.durney.com%2F&amp\;h=ATP4AuDCP2fO7yH8J_mS6xREiyl4_VDF8ujj2jb9pnpfsig2v6JCmj0s-j0SQZWXva2wgvQB4AzS5N1X5VN-YwQZ_OIFUcDm-4dbL9SmfF9l9iHNaxxyj4RwD2IbDpQoJIjYF6sko-Qsz6yuJfonw3i_RX7V&amp\;enc=AZNGD699zYqmZcLvgogO3Wq_GrcKsr5wIjaYXgNNtR3zW5Qu_bn4IusB4Z9Wh4EtNpA&amp\;s=1" rel="nofollow noopener nofollow" style="color: rgb(54\, 88\, 153)\; cursor: pointer\; text-decoration-line: none\; font-family: Helvetica\, Arial\, sans-serif\; font-size: 14px\; background-color: rgb(255\, 255\, 255)\;" target="_blank">www.durney.com</a>
LOCATION:Durney Insurance Hoquiam\, WA
UID:e.26.8069
SEQUENCE:3
DTSTAMP:20260425T230728Z
URL:https://chamber.graysharbor.org/events/details/business-of-the-month-presentation-8069
END:VEVENT

END:VCALENDAR
