BEGIN:VCALENDAR
VERSION:2.0
PRODID:-//ChamberMaster//Event Calendar 2.0//EN
METHOD:PUBLISH
X-PUBLISHED-TTL:P3D
REFRESH-INTERVAL:P3D
CALSCALE:GREGORIAN
BEGIN:VEVENT
DTSTART:20170905T180000Z
DTEND:20170905T190000Z
X-MICROSOFT-CDO-ALLDAYEVENT:FALSE
SUMMARY:Business of the Month Presentation
DESCRIPTION:Please join Greater Grays Harbor\, Inc. as we give the September Business of the Month award to CakeCakes Gourmet Treats in downtown Aberdeen! \n\nSince CakeCakes first opened its doors to the public five years ago\, owner Brittany Fig's goal has been to create beautiful\, unique baked goods and treats for the community. Come help celebrate this tasty business in Grays Harbor! \n\nThe presentation will take place at CakeCakes storefront at 107 East Wishkah St. in Aberdeen on Tuesday\, September 5th at 11am.
X-ALT-DESC;FMTTYPE=text/html:<span style="color: rgb(75\, 79\, 86)\; font-family: Helvetica\, Arial\, sans-serif\; font-size: 14px\; background-color: rgb(255\, 255\, 255)\;">Please join Greater Grays Harbor\, Inc. as we give the September Business of the Month award to CakeCakes Gourmet Treats in downtown Aberdeen!&nbsp\;</span><br style="color: rgb(75\, 79\, 86)\; font-family: Helvetica\, Arial\, sans-serif\; font-size: 14px\; background-color: rgb(255\, 255\, 255)\;" />\n<span style="color: rgb(75\, 79\, 86)\; font-family: Helvetica\, Arial\, sans-serif\; font-size: 14px\; background-color: rgb(255\, 255\, 255)\;">Since CakeCakes first opened its doors to the public five years ago\, owner Brittany Fig&rsquo\;s goal has been to create beautiful\, unique baked goods and treats for the community. Come help celebrate this tasty business in Grays Harbor!&nbsp\;</span><br style="color: rgb(75\, 79\, 86)\; font-family: Helvetica\, Arial\, sans-serif\; font-size: 14px\; background-color: rgb(255\, 255\, 255)\;" />\n<span style="color: rgb(75\, 79\, 86)\; font-family: Helvetica\, Arial\, sans-serif\; font-size: 14px\; background-color: rgb(255\, 255\, 255)\;">The presentation will take place at CakeCakes storefront at 107 East Wishkah St. in Aberdeen on Tuesday\, September 5th at 11am.</span>
LOCATION:CakeCakes Gourmet Treats 107 East Wishkah St. Aberdeen\, WA
UID:e.26.8181
SEQUENCE:3
DTSTAMP:20260425T214153Z
URL:https://chamber.graysharbor.org/events/details/business-of-the-month-presentation-8181
END:VEVENT

END:VCALENDAR
