BEGIN:VCALENDAR
VERSION:2.0
PRODID:-//ChamberMaster//Event Calendar 2.0//EN
METHOD:PUBLISH
X-PUBLISHED-TTL:P3D
REFRESH-INTERVAL:P3D
CALSCALE:GREGORIAN
BEGIN:VEVENT
DTSTART:20171005T230000Z
DTEND:20171005T233000Z
X-MICROSOFT-CDO-ALLDAYEVENT:FALSE
SUMMARY:Business of the Month Presentation
DESCRIPTION:Please join the Greater Grays Harbor Ambassadors as they present Mill 109 with the honor of October Business of the Month!\n\nThe presentation will take place on October 5th at 4 PM.\n\n\n\n'Located in the burgeoning new beach town of Seabrook\, WA\, the \n\nMill 109 Restaurant & Pub is a family-friendly restaurant providing a cozy atmosphere one would expect to find in a traditional beach town on the rugged Washington coast. We offer tried and true staples of Northwest coastal cuisine as well as contemporary family fare which makes you think Pacific Northwest meets homespun comfort.'\n\n\n\n	Networking\n	Kid Friendly\n	Business
X-ALT-DESC;FMTTYPE=text/html:<div class="_2qgs" style="color: rgb(75\, 79\, 86)\; padding: 12px\; position: relative\; border-top: none\; font-family: Helvetica\, Arial\, sans-serif\; font-size: 12px\;"><span class="_4n-j _fbReactionComponent__eventDetailsContentTags fsl" data-testid="event-permalink-details" style="font-size: 14px\; font-family: inherit\;">Please join the Greater Grays Harbor Ambassadors as they present Mill 109 with the honor of October Business of the Month!<br />\nThe presentation will take place on October 5th at 4 PM.<br />\n<br />\n&#39\;Located in the burgeoning new beach town of Seabrook\, WA\, the&nbsp\;<br />\nMill 109 Restaurant &amp\; Pub is a family-friendly restaurant providing a cozy atmosphere one would expect to find in a traditional beach town on the rugged Washington coast. We offer tried and true staples of Northwest coastal cuisine as well as contemporary family fare which makes you think Pacific Northwest meets homespun comfort.&#39\;</span></div>\n\n<div class="_1r51" style="line-height: 24px\; margin: 4px 12px 12px\; min-height: 24px\; font-family: Helvetica\, Arial\, sans-serif\; color: rgb(29\, 33\, 41)\; font-size: 12px\;">\n<ul class="uiList uiCollapsedList uiCollapsedListHidden _509- _4ki" id="u_jsonp_4_y" style="list-style-type: none\; margin: 0px\; padding: 0px\;">\n	<li style="border-width: 0px\; display: inline-block\; vertical-align: top\;"><a href="https://www.facebook.com/events/discovery/?acontext=%7B%22source%22%3A1%2C%22page_id_source%22%3A102743356510389%2C%22action_history%22%3A%22%5B%7B%5C%22surface%5C%22%3A%5C%22page%5C%22%2C%5C%22mechanism%5C%22%3A%5C%22main_list%5C%22%2C%5C%22extra_data%5C%22%3A%5C%22%7B%5C%5C%5C%22page_id%5C%5C%5C%22%3A102743356510389%2C%5C%5C%5C%22tour_id%5C%5C%5C%22%3Anull%7D%5C%22%7D%2C%7B%5C%22surface%5C%22%3A%5C%22permalink%5C%22%2C%5C%22mechanism%5C%22%3A%5C%22surface%5C%22%2C%5C%22extra_data%5C%22%3A%5B%5D%7D%2C%7B%5C%22surface%5C%22%3A%5C%22permalink%5C%22%2C%5C%22mechanism%5C%22%3A%5C%22event_information%5C%22%2C%5C%22extra_data%5C%22%3A%7B%5C%22tag%5C%22%3A%5C%22Networking%5C%22%7D%7D%5D%22%2C%22has_source%22%3Atrue%7D&amp\;suggestion_token=%7B%22event_categories%22%3A%5B1915104302042536%5D%7D" style="color: rgb(54\, 88\, 153)\; cursor: pointer\; text-decoration-line: none\; font-family: inherit\;"><span class="_47od" style="background-color: rgb(237\, 242\, 250)\; border-radius: 2px\; color: rgb(32\, 55\, 95)\; display: block\; height: 14px\; line-height: 14px\; margin: 0px 4px 4px 0px\; padding: 4px 6px\; position: relative\; font-family: inherit\;">Networking</span></a></li>\n	<li style="border-width: 0px 0px 0px 1px\; display: inline-block\; vertical-align: top\;"><a href="https://www.facebook.com/events/discovery/?acontext=%7B%22source%22%3A1%2C%22page_id_source%22%3A102743356510389%2C%22action_history%22%3A%22%5B%7B%5C%22surface%5C%22%3A%5C%22page%5C%22%2C%5C%22mechanism%5C%22%3A%5C%22main_list%5C%22%2C%5C%22extra_data%5C%22%3A%5C%22%7B%5C%5C%5C%22page_id%5C%5C%5C%22%3A102743356510389%2C%5C%5C%5C%22tour_id%5C%5C%5C%22%3Anull%7D%5C%22%7D%2C%7B%5C%22surface%5C%22%3A%5C%22permalink%5C%22%2C%5C%22mechanism%5C%22%3A%5C%22surface%5C%22%2C%5C%22extra_data%5C%22%3A%5B%5D%7D%2C%7B%5C%22surface%5C%22%3A%5C%22permalink%5C%22%2C%5C%22mechanism%5C%22%3A%5C%22event_information%5C%22%2C%5C%22extra_data%5C%22%3A%7B%5C%22tag%5C%22%3A%5C%22Kid+Friendly%5C%22%7D%7D%5D%22%2C%22has_source%22%3Atrue%7D&amp\;suggestion_token=%7B%22event_flags%22%3A%5B%22family_friendly%22%5D%7D" style="color: rgb(54\, 88\, 153)\; cursor: pointer\; text-decoration-line: none\; font-family: inherit\;"><span class="_47od" style="background-color: rgb(237\, 242\, 250)\; border-radius: 2px\; color: rgb(32\, 55\, 95)\; display: block\; height: 14px\; line-height: 14px\; margin: 0px 4px 4px 0px\; padding: 4px 6px\; position: relative\; font-family: inherit\;">Kid Friendly</span></a></li>\n	<li style="border-width: 0px 0px 0px 1px\; display: inline-block\; vertical-align: top\;"><a href="https://www.facebook.com/events/discovery/?acontext=%7B%22source%22%3A1%2C%22page_id_source%22%3A102743356510389%2C%22action_history%22%3A%22%5B%7B%5C%22surface%5C%22%3A%5C%22page%5C%22%2C%5C%22mechanism%5C%22%3A%5C%22main_list%5C%22%2C%5C%22extra_data%5C%22%3A%5C%22%7B%5C%5C%5C%22page_id%5C%5C%5C%22%3A102743356510389%2C%5C%5C%5C%22tour_id%5C%5C%5C%22%3Anull%7D%5C%22%7D%2C%7B%5C%22surface%5C%22%3A%5C%22permalink%5C%22%2C%5C%22mechanism%5C%22%3A%5C%22surface%5C%22%2C%5C%22extra_data%5C%22%3A%5B%5D%7D%2C%7B%5C%22surface%5C%22%3A%5C%22permalink%5C%22%2C%5C%22mechanism%5C%22%3A%5C%22event_information%5C%22%2C%5C%22extra_data%5C%22%3A%7B%5C%22tag%5C%22%3A%5C%22Business%5C%22%7D%7D%5D%22%2C%22has_source%22%3Atrue%7D&amp\;suggestion_token=%7B%22tags%22%3A%5B491736931215104%5D%7D" style="color: rgb(54\, 88\, 153)\; cursor: pointer\; text-decoration-line: none\; font-family: inherit\;"><span class="_47od" style="background-color: rgb(237\, 242\, 250)\; border-radius: 2px\; color: rgb(32\, 55\, 95)\; display: block\; height: 14px\; line-height: 14px\; margin: 0px 4px 4px 0px\; padding: 4px 6px\; position: relative\; font-family: inherit\;">Business</span></a></li>\n</ul>\n</div>\n
LOCATION:Mill 109 Restaurant & Pub Seabrook Pacific Beach
UID:e.26.8267
SEQUENCE:3
DTSTAMP:20260425T201536Z
URL:https://chamber.graysharbor.org/events/details/business-of-the-month-presentation-8267
END:VEVENT

END:VCALENDAR
