BEGIN:VCALENDAR
VERSION:2.0
PRODID:-//ChamberMaster//Event Calendar 2.0//EN
METHOD:PUBLISH
X-PUBLISHED-TTL:P3D
REFRESH-INTERVAL:P3D
CALSCALE:GREGORIAN
BEGIN:VEVENT
DTSTART:20190410T190000Z
DTEND:20190410T210000Z
X-MICROSOFT-CDO-ALLDAYEVENT:FALSE
SUMMARY:Business of the Quarter Presentation
DESCRIPTION:Come out and join Greater Grays Harbor\, Inc. as we present our first ever Business of the Quarter award! Coastal Community Action Program (CCAP) is the well-deserving recipient who GGHI is honored to be celebrating. We will be at their new location at 101 E Market St. in Aberdeen on April 10th from noon to 2pm.\n\n\n\nCCAP works with low income individuals and families to remove the barriers that prevent them from achieving economic stability in Grays Harbor and Pacific Counties\n\n\n\nAttendees will have the opportunity to tour the facility following the presentation of the award. Learn more about CCAP by visiting their website here: coastalcap.org
X-ALT-DESC;FMTTYPE=text/html:<span style="caret-color: rgb(29\, 33\, 41)\; color: rgb(29\, 33\, 41)\; font-family: system-ui\, -apple-system\, BlinkMacSystemFont\, &quot\;.SFNSText-Regular&quot\;\, sans-serif\; font-size: 14px\; white-space: pre-wrap\;">Come out and join Greater Grays Harbor\, Inc. as we present our first ever Business of the Quarter award! Coastal Community Action Program (CCAP) is the well-deserving recipient who GGHI is honored to be celebrating. We will be at their new location at 101 E Market St. in Aberdeen on April 10th from noon to 2pm.</span><br style="caret-color: rgb(29\, 33\, 41)\; color: rgb(29\, 33\, 41)\; font-family: system-ui\, -apple-system\, BlinkMacSystemFont\, &quot\;.SFNSText-Regular&quot\;\, sans-serif\; font-size: 14px\; white-space: pre-wrap\;" />\n<br style="caret-color: rgb(29\, 33\, 41)\; color: rgb(29\, 33\, 41)\; font-family: system-ui\, -apple-system\, BlinkMacSystemFont\, &quot\;.SFNSText-Regular&quot\;\, sans-serif\; font-size: 14px\; white-space: pre-wrap\;" />\n<span style="caret-color: rgb(29\, 33\, 41)\; color: rgb(29\, 33\, 41)\; font-family: system-ui\, -apple-system\, BlinkMacSystemFont\, &quot\;.SFNSText-Regular&quot\;\, sans-serif\; font-size: 14px\; white-space: pre-wrap\;">CCAP works with low income individuals and families to remove the barriers that prevent them from achieving economic stability in Grays Harbor and Pacific Counties</span><br style="caret-color: rgb(29\, 33\, 41)\; color: rgb(29\, 33\, 41)\; font-family: system-ui\, -apple-system\, BlinkMacSystemFont\, &quot\;.SFNSText-Regular&quot\;\, sans-serif\; font-size: 14px\; white-space: pre-wrap\;" />\n<br style="caret-color: rgb(29\, 33\, 41)\; color: rgb(29\, 33\, 41)\; font-family: system-ui\, -apple-system\, BlinkMacSystemFont\, &quot\;.SFNSText-Regular&quot\;\, sans-serif\; font-size: 14px\; white-space: pre-wrap\;" />\n<span style="caret-color: rgb(29\, 33\, 41)\; color: rgb(29\, 33\, 41)\; font-family: system-ui\, -apple-system\, BlinkMacSystemFont\, &quot\;.SFNSText-Regular&quot\;\, sans-serif\; font-size: 14px\; white-space: pre-wrap\;">Attendees will have the opportunity to tour the facility following the presentation of the award. Learn more about CCAP by visiting their website here: </span><a data-lynx-mode="hover" href="https://l.facebook.com/l.php?u=http%3A%2F%2Fcoastalcap.org%2F%3Ffbclid%3DIwAR1On6zOcfSN26C5hrakc9n7qzoZJlZuhfHN4_j4MzAaOZHdHX9hmMUT3Fo&amp\;h=AT04MZZBq5D1APVUoyu4WeD0IKIO01o_Dq4la7zlazubJ0DsNBijA7Klmu1wZObSv3LPgnUDemQv5i_UxWs0GBF_6fZAHFxwq-hVP2VcdXstXh0Y864vgWVtA535UDpIxAFVJ_WIKg" rel="nofollow noopener" style="color: rgb(54\, 88\, 153)\; cursor: pointer\; text-decoration: none\; font-family: system-ui\, -apple-system\, BlinkMacSystemFont\, &quot\;.SFNSText-Regular&quot\;\, sans-serif\; font-size: 14px\; white-space: pre-wrap\;" target="_blank">coastalcap.org</a>
LOCATION:pin Coastal Community Action Program 101 E Market St\, Aberdeen\, Washington 98520
UID:e.26.11903
SEQUENCE:3
DTSTAMP:20260424T164534Z
URL:https://chamber.graysharbor.org/events/details/business-of-the-quarter-presentation-11903
END:VEVENT

END:VCALENDAR
