BEGIN:VCALENDAR
VERSION:2.0
PRODID:-//ChamberMaster//Event Calendar 2.0//EN
METHOD:PUBLISH
X-PUBLISHED-TTL:P3D
REFRESH-INTERVAL:P3D
CALSCALE:GREGORIAN
BEGIN:VEVENT
DTSTART:20190716T180000Z
DTEND:20190716T190000Z
X-MICROSOFT-CDO-ALLDAYEVENT:FALSE
SUMMARY:Business of the Quarter Presentation
DESCRIPTION:GGHI is proud to be presenting Ocean Spray Cranberries with Business of the Quarter (Q2) on Tuesday\, July 16th at 11am! They're located at 1480 WA-105 heading out toward Westport.\n\n\n\nOcean Spray is one of the largest employers in the South Beach area. This business continues to grow year after year and have expanded their cranberry family to now include over 700 grower families across North and South America.\n\n \n\nThis is a very exciting time as this is our second Business of the Quarter presentation of the year\, so please come out and show your support!
X-ALT-DESC;FMTTYPE=text/html:<span style="color:#000000\;"><span style="font-family:arial\;"><span style="font-size:14px\;">GGHI is proud to be presenting Ocean Spray Cranberries with Business of the Quarter (Q2) on Tuesday\, July 16<sup>th</sup>&nbsp\;at 11am! They&#39\;re located at 1480 WA-105 heading out toward Westport.<br />\n<br />\nOcean Spray is one of the largest employers in the South Beach area. This business<span style="caret-color: rgb(86\, 52\, 38)\;">&nbsp\;continues to grow year after year and have expanded their cranberry family to now include over 700 grower families across North and South America.</span><br />\n&nbsp\;<br />\n<span style="caret-color: rgb(34\, 34\, 34)\;">This is a very exciting time as this is our second Business of the Quarter presentation of the year\, so please come out and show your support!</span></span></span></span>
LOCATION:Ocean Spray 1480 WA-105 Aberdeen\, WA
UID:e.26.12083
SEQUENCE:3
DTSTAMP:20260424T104454Z
URL:https://chamber.graysharbor.org/events/details/business-of-the-quarter-presentation-12083
END:VEVENT

END:VCALENDAR
