BEGIN:VCALENDAR
VERSION:2.0
PRODID:-//ChamberMaster//Event Calendar 2.0//EN
METHOD:PUBLISH
X-PUBLISHED-TTL:P3D
REFRESH-INTERVAL:P3D
CALSCALE:GREGORIAN
BEGIN:VEVENT
DTSTART:20200122T233000Z
DTEND:20200123T000000Z
X-MICROSOFT-CDO-ALLDAYEVENT:FALSE
SUMMARY:Business of the Quarter Presentation
DESCRIPTION:Greater Grays Harbor is proud to announce Tropical Tanning Salon & Boutique as our Business of the Quarter for Quarter 4\, 2019! We will be celebrating with them this coming Wednesday\, January 22nd at 3:30 pm. They are located at 506 8th St. in Hoquiam!\n\n\n\nWe hope you are all able to come and congratulate them with us! Everyone is welcome.
X-ALT-DESC;FMTTYPE=text/html:<span style="font-size:14px\;"><span style="font-family:arial\;"><span style="caret-color: rgb(29\, 33\, 41)\; color: rgb(29\, 33\, 41)\; white-space: pre-wrap\;">Greater Grays Harbor is proud to announce Tropical Tanning Salon &amp\; Boutique as our Business of the Quarter for Quarter 4\, 2019! We will be celebrating with them this coming Wednesday\, January 22nd at 3:30 pm. They are located at 506 8th St. in Hoquiam!</span><br style="caret-color: rgb(29\, 33\, 41)\; color: rgb(29\, 33\, 41)\; font-family: system-ui\, -apple-system\, BlinkMacSystemFont\, &quot\;.SFNSText-Regular&quot\;\, sans-serif\; font-size: 14px\; white-space: pre-wrap\;" />\n<br style="caret-color: rgb(29\, 33\, 41)\; color: rgb(29\, 33\, 41)\; font-family: system-ui\, -apple-system\, BlinkMacSystemFont\, &quot\;.SFNSText-Regular&quot\;\, sans-serif\; font-size: 14px\; white-space: pre-wrap\;" />\n<span style="caret-color: rgb(29\, 33\, 41)\; color: rgb(29\, 33\, 41)\; white-space: pre-wrap\;">We hope you are all able to come and congratulate them with us! Everyone is welcome. </span></span></span>
LOCATION:pin Tropical Tanning Salon & Boutique 506 8th St\, Hoquiam\, Washington 98550
UID:e.26.12365
SEQUENCE:3
DTSTAMP:20260424T042234Z
URL:https://chamber.graysharbor.org/events/details/business-of-the-quarter-presentation-12365
END:VEVENT

END:VCALENDAR
