BEGIN:VCALENDAR
VERSION:2.0
PRODID:-//ChamberMaster//Event Calendar 2.0//EN
METHOD:PUBLISH
X-PUBLISHED-TTL:P3D
REFRESH-INTERVAL:P3D
CALSCALE:GREGORIAN
BEGIN:VEVENT
DTSTART:20190719T063000Z
DTEND:20190718T200000Z
X-MICROSOFT-CDO-ALLDAYEVENT:FALSE
SUMMARY:Business Resources Lunch at GGHI
DESCRIPTION:To be successful in today's market\, businesses need to take advantage of all the resources available to them. Two such resources are the Small Business Development Center (SBDC) and Procurement Technical Assistance Centers (PTAC.) Representatives from both will be joining us for lunch at Greater Grays Harbor on Thursday\, July 18th from 11:30a   1p. Each will give a short presentation about how their programs can contribute to the success of your business. \n\n\n\nMia Johnstone with SBDC will be providing an overview of the services offered along with examples of businesses they've helped to overcome barriers to growth. \n\nKate Hoy with PTAC will be introducing government procurement and exploring how your business can potentially grow revenue by selling to government entities. \n\nLearn more about SBDC and PTAC:\n\n\n	http://wsbdc.org/\n	https://washingtonptac.org/\n\n\nWe hope to see you there!
X-ALT-DESC;FMTTYPE=text/html:<p style="box-sizing: border-box\; margin: 0px 0px 20px\; caret-color: rgb(24\, 24\, 24)\; color: rgb(24\, 24\, 24)\; font-family: Roboto\, Arial\, Helvetica\, sans-serif\; font-size: 17px\;"><span style="font-size:14px\;"><span style="font-family:arial\;"><span style="box-sizing: border-box\;">To be successful in today&rsquo\;s market\, businesses need to take advantage of all the resources available to them. Two such resources are the Small Business Development Center (SBDC) and Procurement Technical Assistance Centers (PTAC.) Representatives from both will be joining us for lunch at Greater Grays Harbor on Thursday\, July 18</span><span style="box-sizing: border-box\;">th</span><span style="box-sizing: border-box\;">&nbsp\;from 11:30a &ndash\; 1p. Each will give a short presentation about how their programs can contribute to the success of your business.&nbsp\;</span></span></span><br />\n<br />\n<span style="font-size:14px\;"><span style="font-family:arial\;"><span style="box-sizing: border-box\;">Mia Johnstone with SBDC will be providing an overview of the services offered along with examples of businesses they&rsquo\;ve helped to overcome barriers to growth.&nbsp\;</span></span></span></p>\n\n<p style="box-sizing: border-box\; margin: 0px 0px 20px\; caret-color: rgb(24\, 24\, 24)\; color: rgb(24\, 24\, 24)\; font-family: Roboto\, Arial\, Helvetica\, sans-serif\; font-size: 17px\;"><span style="font-size:14px\;"><span style="font-family:arial\;"><span style="box-sizing: border-box\;">Kate Hoy with PTAC will be introducing government procurement and exploring how your business can potentially grow revenue by selling to government entities.&nbsp\;</span></span></span><br />\n<span style="font-size:14px\;"><span style="font-family:arial\;"><span style="box-sizing: border-box\;">Learn more about SBDC and PTAC:</span></span></span></p>\n\n<ul style="box-sizing: border-box\; caret-color: rgb(24\, 24\, 24)\; color: rgb(24\, 24\, 24)\; font-family: Roboto\, Arial\, Helvetica\, sans-serif\; font-size: 17px\;">\n	<li style="box-sizing: border-box\;"><span style="font-size:14px\;"><span style="font-family:arial\;"><a href="http://wsbdc.org/" style="box-sizing: border-box\; text-decoration: none\; transition-property: color\, background-color\, border-color\; transition-duration: 0.2s\; transition-timing-function: linear\; color: rgb(106\, 165\, 177)\;">http://wsbdc.org/</a></span></span></li>\n	<li style="box-sizing: border-box\;"><span style="font-size:14px\;"><span style="font-family:arial\;"><a href="https://washingtonptac.org/" style="box-sizing: border-box\; text-decoration: none\; transition-property: color\, background-color\, border-color\; transition-duration: 0.2s\; transition-timing-function: linear\; color: rgb(106\, 165\, 177)\;">https://washingtonptac.org/</a></span></span></li>\n</ul>\n\n<p style="box-sizing: border-box\; margin: 0px 0px 20px\; caret-color: rgb(24\, 24\, 24)\; color: rgb(24\, 24\, 24)\; font-family: Roboto\, Arial\, Helvetica\, sans-serif\; font-size: 17px\;"><span style="font-size:14px\;"><span style="font-family:arial\;"><span style="box-sizing: border-box\;">We hope to see you there!</span></span></span></p>\n\n<p style="box-sizing: border-box\; margin: 0px 0px 20px\; caret-color: rgb(24\, 24\, 24)\; color: rgb(24\, 24\, 24)\; font-family: Roboto\, Arial\, Helvetica\, sans-serif\; font-size: 17px\;">&nbsp\;</p>\n
LOCATION:GGHI 506 Duffy St. Aberdeen\, WA
UID:e.26.12085
SEQUENCE:3
DTSTAMP:20260424T115310Z
URL:https://chamber.graysharbor.org/events/details/business-resources-lunch-at-gghi-12085
END:VEVENT

END:VCALENDAR
