BEGIN:VCALENDAR
VERSION:2.0
PRODID:-//ChamberMaster//Event Calendar 2.0//EN
METHOD:PUBLISH
X-PUBLISHED-TTL:P3D
REFRESH-INTERVAL:P3D
CALSCALE:GREGORIAN
BEGIN:VEVENT
DTSTART:20170919T150000Z
DTEND:20170919T160000Z
X-MICROSOFT-CDO-ALLDAYEVENT:FALSE
SUMMARY:Business Technology Seminar
DESCRIPTION:Hosted by Barene DenAdel Certified Public Accountants. What you need to know about the technologies that support your business. You won't want to miss this one-hour seminar. You'll walk away with helpful tips and tactics on using these advanced solutions to better manage your business.
X-ALT-DESC;FMTTYPE=text/html:Hosted by Barene DenAdel Certified Public Accountants. What you need to know about the technologies that support your business. You won&#39\;t want to miss this one-hour seminar. You&#39\;ll walk away with helpful tips and tactics on using these advanced solutions to better manage your business.
LOCATION:Tinderbox Coffee Roasters 113 E Wishkah St Aberdeen\, WA 98520
UID:e.26.8172
SEQUENCE:3
DTSTAMP:20260425T213724Z
URL:https://chamber.graysharbor.org/events/details/business-technology-seminar-8172
END:VEVENT

END:VCALENDAR
