BEGIN:VCALENDAR
VERSION:2.0
PRODID:-//ChamberMaster//Event Calendar 2.0//EN
METHOD:PUBLISH
X-PUBLISHED-TTL:P3D
REFRESH-INTERVAL:P3D
CALSCALE:GREGORIAN
BEGIN:VEVENT
DTSTART:20181206T020000Z
DTEND:20181206T043000Z
X-MICROSOFT-CDO-ALLDAYEVENT:FALSE
SUMMARY:Café Comunitario - Community Café on Transportation
DESCRIPTION:How easy is it to get where you want to go on time and affordably? Join other families in your community to discuss what's working and what gaps there are in transportation - free dinner from local Mexican restaurant\, fun\, educational childcare\, and transportation support. What role do you play in helping ALL families access transportation? See you next Wednesday!
X-ALT-DESC;FMTTYPE=text/html:How easy is it to get where you want to go on time and affordably? Join other families in your community to discuss what&#39\;s working and what gaps there are in transportation - free dinner from local Mexican restaurant\, fun\, educational childcare\, and transportation support. What role do you play in helping ALL families access transportation? See you next Wednesday!
LOCATION:306 E 3rd St Aberdeen\, WA 98520
UID:e.26.11356
SEQUENCE:3
DTSTAMP:20260424T210737Z
URL:https://chamber.graysharbor.org/events/details/caf&#233;-comunitario-community-caf&#233;-on-transportation-11356
END:VEVENT

END:VCALENDAR
