BEGIN:VCALENDAR
VERSION:2.0
PRODID:-//ChamberMaster//Event Calendar 2.0//EN
METHOD:PUBLISH
X-PUBLISHED-TTL:P3D
REFRESH-INTERVAL:P3D
CALSCALE:GREGORIAN
BEGIN:VEVENT
DTSTART:20200203T230000Z
DTEND:20200204T000000Z
X-MICROSOFT-CDO-ALLDAYEVENT:FALSE
SUMMARY:Café La Esquinita Ribbon Cutting
DESCRIPTION:Greater Grays Harbor will be hosting a ribbon cutting for Caf  La Esquinita on Monday\, February 3rd at 3 pm. They're located in the Shoppes at Riverside right across from the movie theatre in the food court.\n\n \n\nPlease join us in welcoming this new cafe\, we look forward to seeing you there!
X-ALT-DESC;FMTTYPE=text/html:<span style="font-size:14px\;">Greater Grays Harbor will be hosting a ribbon cutting for Caf&eacute\; La Esquinita on Monday\, February 3<sup>rd</sup>&nbsp\;at 3 pm. They&#39\;re located in the Shoppes at Riverside right across from the movie theatre in the food court.<br />\n&nbsp\;<br />\nPlease join us in welcoming this new cafe\, we look forward to seeing you there!</span>
LOCATION:Shoppes at Riverside Food Court 1017 S Boone St. Aberdeen\, Washington 98520
UID:e.26.12361
SEQUENCE:3
DTSTAMP:20260424T042158Z
URL:https://chamber.graysharbor.org/events/details/caf&#233;-la-esquinita-ribbon-cutting-12361
END:VEVENT

END:VCALENDAR
