BEGIN:VCALENDAR
VERSION:2.0
PRODID:-//ChamberMaster//Event Calendar 2.0//EN
METHOD:PUBLISH
X-PUBLISHED-TTL:P3D
REFRESH-INTERVAL:P3D
CALSCALE:GREGORIAN
BEGIN:VEVENT
DTSTART:20200202T033000Z
DTEND:20200202T060000Z
X-MICROSOFT-CDO-ALLDAYEVENT:FALSE
SUMMARY:Call Mr. Robeson
DESCRIPTION:Actor\, writer\, & producer Tayo Aluko is Paul Robeson\, world-famous actor\, singer and civil rights campaigner. Features Ol' Man River and other famous songs\, much fiery oratory\, and a defiant testimony. Sponsored by Ingram\, Zelasko\, & Goodwin LLP
X-ALT-DESC;FMTTYPE=text/html:<span style="caret-color: rgb(29\, 33\, 41)\; color: rgb(29\, 33\, 41)\; font-family: system-ui\, -apple-system\, BlinkMacSystemFont\, &quot\;.SFNSText-Regular&quot\;\, sans-serif\; font-size: 14px\; white-space: pre-wrap\;">Actor\, writer\, &amp\; producer Tayo Aluko is Paul Robeson\, world-famous actor\, singer and civil rights campaigner. Features Ol&#39\; Man River and other famous songs\, much fiery oratory\, and a defiant testimony. </span><span style="caret-color: rgb(29\, 33\, 41)\; color: rgb(29\, 33\, 41)\; font-family: system-ui\, -apple-system\, BlinkMacSystemFont\, &quot\;.SFNSText-Regular&quot\;\, sans-serif\; font-size: 14px\; white-space: pre-wrap\;">Sponsored by Ingram\, Zelasko\, &amp\; Goodwin LLP</span>
LOCATION:pin Bishop Center for Performing Arts 1620 Edward P Smith Dr\, Aberdeen\, Washington 98520
UID:e.26.12336
SEQUENCE:3
DTSTAMP:20260424T060007Z
URL:https://chamber.graysharbor.org/events/details/call-mr-robeson-12336
END:VEVENT

END:VCALENDAR
