BEGIN:VCALENDAR
VERSION:2.0
PRODID:-//ChamberMaster//Event Calendar 2.0//EN
METHOD:PUBLISH
X-PUBLISHED-TTL:P3D
REFRESH-INTERVAL:P3D
CALSCALE:GREGORIAN
BEGIN:VEVENT
DTSTART:20190725T203000Z
DTEND:20190725T220000Z
X-MICROSOFT-CDO-ALLDAYEVENT:FALSE
SUMMARY:Camp Bishop Dining Hall Ribbon Cutting
DESCRIPTION:You're invited to the YMCA's Camp Bishop's Dining Hall Renovation Ribbon Cutting event! The event will take place on July 25th at 1:30pm with camp tours to follow.
X-ALT-DESC;FMTTYPE=text/html:You&#39\;re invited to the YMCA&#39\;s Camp Bishop&#39\;s Dining Hall Renovation Ribbon Cutting event! The event will take place on July 25th at 1:30pm with camp tours to follow.&nbsp\;
LOCATION:YMCA's Camp Bishop 1476 W Lost Lake Rd Shelton\, WA 98584
UID:e.26.12074
SEQUENCE:3
DTSTAMP:20260424T104147Z
URL:https://chamber.graysharbor.org/events/details/camp-bishop-dining-hall-ribbon-cutting-12074
END:VEVENT

END:VCALENDAR
