BEGIN:VCALENDAR
VERSION:2.0
PRODID:-//ChamberMaster//Event Calendar 2.0//EN
METHOD:PUBLISH
X-PUBLISHED-TTL:P3D
REFRESH-INTERVAL:P3D
CALSCALE:GREGORIAN
BEGIN:VEVENT
DTSTART:20190708T153000Z
DTEND:20190713T000000Z
X-MICROSOFT-CDO-ALLDAYEVENT:FALSE
SUMMARY:Camp Klahanee Summer Day Camp\, Week 2: Air
DESCRIPTION:Girl Scouts Camp Klahanee is a girl-led\, volunteer-driven\, and staff-supported summer day camp for campers grades 1-12! Nestled between ocean and forest on the southern Olympic Peninsula\, we'll learn outdoor skills\, play games\, explore nature\, make crafts\, and experience the magic of camp. Each week has a unique nature theme to guide our adventure\, a field trip to the beach\, and an overnight opportunity for campers grade 5+!
X-ALT-DESC;FMTTYPE=text/html:Girl Scouts Camp Klahanee is a&nbsp\;girl-led\, volunteer-driven\, and staff-supported summer day camp for campers grades 1-12! Nestled between ocean and forest on the southern Olympic Peninsula\, we&#39\;ll learn outdoor skills\, play games\, explore nature\, make crafts\, and experience the magic of camp. Each week has a unique nature theme to guide our adventure\, a field trip to the beach\, and an overnight opportunity for campers grade 5+!
LOCATION:94 Larson Brothers Rd\, Hoquiam\, WA 98550
UID:e.26.12059
SEQUENCE:3
DTSTAMP:20260424T104330Z
URL:https://chamber.graysharbor.org/events/details/camp-klahanee-summer-day-camp-week-2-air-12059
END:VEVENT

END:VCALENDAR
