BEGIN:VCALENDAR
VERSION:2.0
PRODID:-//ChamberMaster//Event Calendar 2.0//EN
METHOD:PUBLISH
X-PUBLISHED-TTL:P3D
REFRESH-INTERVAL:P3D
CALSCALE:GREGORIAN
BEGIN:VEVENT
DTSTART:20170618T013000Z
DTEND:20170618T023000Z
X-MICROSOFT-CDO-ALLDAYEVENT:FALSE
SUMMARY:Canal Sunset Tours
DESCRIPTION:Canal Sunset Tours\n\n      6:30 pm - Canal Brothers of Ocean Shores presents free \n\n      1- hour tours of the beautiful waterways near Oyhut Bay \n\n      Sign up at rental office - Meet at the Oyhut Bay dock
X-ALT-DESC;FMTTYPE=text/html:<p><font size="3"><font face="Times New Roman"><span style="color: rgb(80\, 80\, 80)\;">Canal Sunset Tours</span><span style="color: rgb(80\, 80\, 80)\; font-family: &quot\;Helvetica&quot\;\,&quot\;sans-serif&quot\;\;"><o:p></o:p></span></font></font></p>\n\n<p><font size="3"><font face="Times New Roman"><span style="color: rgb(80\, 80\, 80)\;">&nbsp\; &nbsp\; &nbsp\; 6:30 pm - Canal Brothers of Ocean Shores presents&nbsp\;free </span><span style="color: rgb(80\, 80\, 80)\; font-family: &quot\;Helvetica&quot\;\,&quot\;sans-serif&quot\;\;"><o:p></o:p></span></font></font></p>\n\n<p><font size="3"><font face="Times New Roman"><span style="color: rgb(80\, 80\, 80)\;">&nbsp\; &nbsp\; &nbsp\; 1- hour&nbsp\;tours of the beautiful waterways near Oyhut Bay </span><span style="color: rgb(80\, 80\, 80)\; font-family: &quot\;Helvetica&quot\;\,&quot\;sans-serif&quot\;\;"><o:p></o:p></span></font></font></p>\n\n<p><font size="3"><font face="Times New Roman"><span style="color: rgb(80\, 80\, 80)\;">&nbsp\; &nbsp\; &nbsp\; Sign up at rental office -&nbsp\;Meet at the Oyhut Bay dock</span><span style="color: rgb(80\, 80\, 80)\; font-family: &quot\;Helvetica&quot\;\,&quot\;sans-serif&quot\;\;"><o:p></o:p></span></font></font></p>\n
LOCATION:Sign up at rental office - Meet at the Oyhut Bay dock
UID:e.26.7734
SEQUENCE:3
DTSTAMP:20260426T015327Z
URL:https://chamber.graysharbor.org/events/details/canal-sunset-tours-7734
END:VEVENT

END:VCALENDAR
