BEGIN:VCALENDAR
VERSION:2.0
PRODID:-//ChamberMaster//Event Calendar 2.0//EN
METHOD:PUBLISH
X-PUBLISHED-TTL:P3D
REFRESH-INTERVAL:P3D
CALSCALE:GREGORIAN
BEGIN:VEVENT
DTSTART:20181220T010000Z
DTEND:20181220T030000Z
X-MICROSOFT-CDO-ALLDAYEVENT:FALSE
SUMMARY:Caroling at Monte Health and Rehab
DESCRIPTION:Sarah Thomasson is the Leader in Charge for this event. You will meet at the church at 5pm for some craft making time to hand out to the residents. You will Carol at Monte Health and Rehab at 6pm. After Caroling\, you can return to the church for dinner. 2 soups are being provided. If you would like to bring another soup or rolls or dessert\, etc. Please sign-up
X-ALT-DESC;FMTTYPE=text/html:<span style="caret-color: rgb(29\, 33\, 41)\; color: rgb(29\, 33\, 41)\; font-family: system-ui\, -apple-system\, BlinkMacSystemFont\, &quot\;.SFNSText-Regular&quot\;\, sans-serif\; font-size: 14px\; background-color: rgb(255\, 255\, 255)\;">Sarah Thomasson is the Leader in Charge for this event. You will meet at the church at 5pm for some craft making time to hand out to the residents. You will Carol at Monte Health and Rehab at 6pm. After Caroling\, you can return to the church for dinner. 2 soups are being provided. If you would like to bring another soup or rolls or dessert\, etc. Please sign-up</span>
LOCATION:pin Montesano Church of God 317 E Spruce Ave\, Montesano\, Washington 98563
UID:e.26.11369
SEQUENCE:3
DTSTAMP:20260424T211100Z
URL:https://chamber.graysharbor.org/events/details/caroling-at-monte-health-and-rehab-11369
END:VEVENT

END:VCALENDAR
