BEGIN:VCALENDAR
VERSION:2.0
PRODID:-//ChamberMaster//Event Calendar 2.0//EN
METHOD:PUBLISH
X-PUBLISHED-TTL:P3D
REFRESH-INTERVAL:P3D
CALSCALE:GREGORIAN
BEGIN:VEVENT
DTSTART:20190409T210000Z
DTEND:20190409T220000Z
X-MICROSOFT-CDO-ALLDAYEVENT:FALSE
SUMMARY:Cascade Pizza Ribbon Cutting
DESCRIPTION:Greater Grays Harbor\, Inc. will be partnering with the Elma Chamber of Commerce to host a ribbon cutting for Cascade Pizza on Tuesday\, April 9th at 2pm! They are located at 203 W Main St. in Elma.\n\nThis new business offers delivery\, dine-in\, take-out and pizzas for self-bake as well as salads and dessert. Come check it out!
X-ALT-DESC;FMTTYPE=text/html:<span style="caret-color: rgb(29\, 33\, 41)\; color: rgb(29\, 33\, 41)\; font-family: system-ui\, -apple-system\, BlinkMacSystemFont\, &quot\;.SFNSText-Regular&quot\;\, sans-serif\; font-size: 14px\; white-space: pre-wrap\;">Greater Grays Harbor\, Inc. will be partnering with the Elma Chamber of Commerce to host a ribbon cutting for Cascade Pizza on Tuesday\, April 9th at 2pm! They are located at 203 W Main St. in Elma.</span><br style="caret-color: rgb(29\, 33\, 41)\; color: rgb(29\, 33\, 41)\; font-family: system-ui\, -apple-system\, BlinkMacSystemFont\, &quot\;.SFNSText-Regular&quot\;\, sans-serif\; font-size: 14px\; white-space: pre-wrap\;" />\n<span style="caret-color: rgb(29\, 33\, 41)\; color: rgb(29\, 33\, 41)\; font-family: system-ui\, -apple-system\, BlinkMacSystemFont\, &quot\;.SFNSText-Regular&quot\;\, sans-serif\; font-size: 14px\; white-space: pre-wrap\;">This new business offers delivery\, dine-in\, take-out and pizzas for self-bake as well as salads and dessert. Come check it out!</span>
LOCATION:pin Cascade Pizza 203 W Main St\, Elma\, Washington 98541
UID:e.26.11912
SEQUENCE:3
DTSTAMP:20260424T163355Z
URL:https://chamber.graysharbor.org/events/details/cascade-pizza-ribbon-cutting-11912
END:VEVENT

END:VCALENDAR
