BEGIN:VCALENDAR
VERSION:2.0
PRODID:-//ChamberMaster//Event Calendar 2.0//EN
METHOD:PUBLISH
X-PUBLISHED-TTL:P3D
REFRESH-INTERVAL:P3D
CALSCALE:GREGORIAN
BEGIN:VEVENT
DTSTART;VALUE=DATE:20170930
DTEND;VALUE=DATE:20171001
TRANSP:TRANSPARENT
X-MICROSOFT-CDO-ALLDAYEVENT:TRUE
SUMMARY:Catch Montesano: Fish & Brew Fest
DESCRIPTION:Montesano Chamber of Commerce 2nd Annual Catch Montesano! Salmon Derby with cash prizes in the morning followed by a brew fest from 4-11pm. Brew Fest will feature local craft beer and wine\, live music\, food\, vendors\, and corn hole tournament. Tickets include souvenir glass and scrip.
X-ALT-DESC;FMTTYPE=text/html:<strong>Montesano Chamber of Commerce 2nd Annual Catch Montesano!</strong> Salmon Derby with cash prizes in the morning followed by a brew fest from 4-11pm. Brew Fest will feature local craft beer and wine\, live music\, food\, vendors\, and corn hole tournament. Tickets include souvenir glass and scrip.
LOCATION:Fleet Park\, Montesano
UID:e.26.7708
SEQUENCE:3
DTSTAMP:20260425T213833Z
URL:https://chamber.graysharbor.org/events/details/catch-montesano-fish-brew-fest-09-30-2017-7708
END:VEVENT

END:VCALENDAR
