BEGIN:VCALENDAR
VERSION:2.0
PRODID:-//ChamberMaster//Event Calendar 2.0//EN
METHOD:PUBLISH
X-PUBLISHED-TTL:P3D
REFRESH-INTERVAL:P3D
CALSCALE:GREGORIAN
BEGIN:VEVENT
DTSTART:20181109T020000Z
DTEND:20181109T040000Z
X-MICROSOFT-CDO-ALLDAYEVENT:FALSE
SUMMARY:Celebrate Our Kids - Dinner\, Auction & 4-H Recognition Event
DESCRIPTION:A fun and festive way to celebrate another wonderful year of Grays Harbor County 4-H programs as a community! Flyer and more information\, coming soon
X-ALT-DESC;FMTTYPE=text/html:<div id="u_jsonp_5_r" style="background-color: transparent\; color: rgb(29\, 33\, 41)\; font-family: Helvetica\,Arial\,sans-serif\; font-size: 12px\; font-style: normal\; font-variant: normal\; font-weight: 400\; letter-spacing: normal\; orphans: 2\; text-align: left\; text-decoration: none\; text-indent: 0px\; text-transform: none\; -webkit-text-stroke-width: 0px\; white-space: normal\; word-spacing: 0px\;">\n<div style="font-family: Helvetica\,Arial\,sans-serif\;">\n<div class="_4l8o _4-u2  _4-u8" style="background-color: rgb(255\, 255\, 255)\; border-bottom-color: transparent\; border-bottom-left-radius: 3px\; border-bottom-right-radius: 3px\; border-bottom-style: solid\; border-bottom-width: 1px\; border-image-outset: 0\; border-image-repeat: stretch\; border-image-slice: 100%\; border-image-source: none\; border-image-width: 1\; border-left-color: transparent\; border-left-style: solid\; border-left-width: 0px\; border-right-color: transparent\; border-right-style: solid\; border-right-width: 0px\; border-top-color: transparent\; border-top-left-radius: 3px\; border-top-right-radius: 3px\; border-top-style: solid\; border-top-width: 1px\; bottom: auto\;  font-family: Helvetica\,Arial\,sans-serif\; left: auto\; margin-bottom: 8px\; pointer-events: visiblePainted\; position: relative\; right: auto\; top: auto\; width: 500px\;">\n<div class="_62hs _4-u3" style="border-bottom-left-radius: 3px\; border-bottom-right-radius: 3px\; border-top-color: rgb(229\, 229\, 229)\; border-top-style: solid\; border-top-width: 1px\; font-family: Helvetica\,Arial\,sans-serif\;">\n<div class="_63es _63et" style="font-family: Helvetica\,Arial\,sans-serif\;">\n<div class="_63eu" style="box-sizing: border-box\; font-family: Helvetica\,Arial\,sans-serif\; font-size: 14px\; max-height: 260px\; overflow: hidden\; padding-bottom: 12px\; padding-left: 12px\; padding-right: 12px\; padding-top: 12px\; word-wrap: break-word\;">\n<div class="_63ew" data-testid="event-permalink-details" style="font-family: Helvetica\,Arial\,sans-serif\;"><span style="font-family: Helvetica\,Arial\,sans-serif\;">A fun and festive way to celebrate another wonderful year of Grays Harbor County 4-H programs as a community! Flyer and more information\, coming soon</span></div>\n</div>\n</div>\n</div>\n</div>\n</div>\n</div>\n
LOCATION:Grays Harbor County 4-H 32 Elma McCleary Rd\, Elma\, Washington 98541
UID:e.26.11320
SEQUENCE:3
DTSTAMP:20260425T002145Z
URL:https://chamber.graysharbor.org/events/details/celebrate-our-kids-dinner-auction-4-h-recognition-event-11320
END:VEVENT

END:VCALENDAR
