BEGIN:VCALENDAR
VERSION:2.0
PRODID:-//ChamberMaster//Event Calendar 2.0//EN
METHOD:PUBLISH
X-PUBLISHED-TTL:P3D
REFRESH-INTERVAL:P3D
CALSCALE:GREGORIAN
BEGIN:VEVENT
DTSTART;VALUE=DATE:20241021
DTEND;VALUE=DATE:20241028
TRANSP:TRANSPARENT
X-MICROSOFT-CDO-ALLDAYEVENT:TRUE
SUMMARY:Celtic Music Feis
DESCRIPTION:2024 will herald the 21st year of the Galway Bay Celtic Music Feis\, celebrating Irish songs\, ballads\, players and bands that will be flooding Ocean Shores\, WA with music and fun for seven days this October. This year the festival kicks off with cover free\, laid back vibe at the Ale House on Monday\, October 21st\, 2024 as the pub is closed. Then we kick off day two and the rest of the week at the pub the evening of Tuesday\, October 22nd\, 2024\, and lasts until Sunday\, October 27th\, 2024. An eclectic mix of Irish bands\, choirs and dancers hailing from throughout the United States\, Canada and\, of course\, Ireland will be rounding out this year's entertainment.
X-ALT-DESC;FMTTYPE=text/html:<span style="font-size:14px\;"><span style="font-family:arial\;"><strong style="box-sizing: border-box\; margin: 0px\; caret-color: rgb(107\, 107\, 107)\; color: rgb(107\, 107\, 107)\; font-family: Lato\, Helvetica\, Arial\, sans-serif\; font-size: 18px\;">2024 will herald the 21st year of the Galway Bay Celtic Music Feis\, celebrating Irish songs\, ballads\, players and bands that will be flooding Ocean Shores\, WA with music and fun for seven days this October. This year the festival kicks off&nbsp\;with cover free\, laid back vibe at the Ale House on Monday\, October 21st\, 2024&nbsp\;as the pub is closed. Then we kick off day two and the rest of the week&nbsp\;at the pub the evening of Tuesday\, October 22nd\, 2024\, and lasts until Sunday\, October 27th\, 2024. An eclectic mix of Irish bands\, choirs and dancers hailing from throughout the United States\, Canada and\, of course\, Ireland will be rounding out this year&#39\;s entertainment.</strong></span></span>
LOCATION:Galway Bay Irish Restaurant\, Pub & Gifts 880 Point Brown Avenue Northeast Ocean Shores\, WA
UID:e.26.14523
SEQUENCE:3
DTSTAMP:20260423T150153Z
URL:https://chamber.graysharbor.org/events/details/celtic-music-feis-14523
END:VEVENT

END:VCALENDAR
