BEGIN:VCALENDAR
VERSION:2.0
PRODID:-//ChamberMaster//Event Calendar 2.0//EN
METHOD:PUBLISH
X-PUBLISHED-TTL:P3D
REFRESH-INTERVAL:P3D
CALSCALE:GREGORIAN
BEGIN:VEVENT
DTSTART:20171104T160000Z
DTEND:20171104T230000Z
X-MICROSOFT-CDO-ALLDAYEVENT:FALSE
SUMMARY:Central Park Bazaar
DESCRIPTION:Get your Shopping on!! There will be home made gifts\, Crafts\, Baked yummy goodies\, jewelry\, garage sale items\, consultants from Scentsy\, etc (one per company) and more!! Come on down and support your local vendors and the Central Park PTO. There will also be a raffle basket that the PTO will be raffling off 'Bobcat' theme basket! Ticket will be $1 Each or six tickets for $5 (winner need not be present to win). There will be coffee and hot cocoa for $1 and food for sale during lunch time. There are 40 vendor tables. If your interested in becoming a vendor ($20 for a six foot table) please email jewelfrog11@gmail.com or comment here and I will contact you. Thank you.
X-ALT-DESC;FMTTYPE=text/html:<div class="_4-u2 _3xaf _3-95 _4-u8" style="border-width: 1px 0px\; border-style: solid\; border-image: initial\; border-color: transparent\; border-radius: 3px\; background-color: rgb(255\, 255\, 255)\; margin-bottom: 8px\; position: relative\; font-family: Helvetica\, Arial\, sans-serif\; color: rgb(29\, 33\, 41)\; font-size: 12px\;">\n<div class="_2qgs" style="color: rgb(75\, 79\, 86)\; padding: 12px\; position: relative\; border-top: none\; font-family: inherit\;"><span class="_4n-j _3cht fsl" data-testid="event-permalink-details" style="font-size: 14px\; font-family: inherit\;">Get your Shopping on!! There will be home made gifts\, Crafts\, Baked yummy goodies\, jewelry\, garage sale items\, consultants from Scentsy\, etc (one per company) and more!! Come on down and support your local vendors and the Central Park PTO. There will also be a raffle basket that the PTO will be raffling off &#39\;Bobcat&#39\; theme basket! Ticket will be $1 Each or six tickets for $5 (winner need not be present to win). There will be coffee and hot cocoa for $1 and food for sale during lunch time. There are 40 vendor tables. If your interested in becoming a vendor ($20 for a six foot table) please email jewelfrog11@gmail.com or comment here and I will contact you. Thank you.</span></div>\n</div>\n\n<div data-testid="message_friends_unit" id="u_jsonp_17_m" style="font-family: Helvetica\, Arial\, sans-serif\; color: rgb(29\, 33\, 41)\; font-size: 12px\; background-color: rgb(233\, 235\, 238)\;">\n<div class="_5-ra _4-u2  _4-u8" style="border-width: 1px 0px\; border-style: solid\; border-image: initial\; border-color: transparent\; border-radius: 3px\; background-color: rgb(255\, 255\, 255)\; margin-bottom: 12px\; position: relative\; font-family: inherit\;">\n<div class="_5dw9 _5dwa _4-u3" style="line-height: 12px\; overflow: hidden\; padding: 8px 0px 7px\; position: relative\; min-height: 24px\; border-top: none\; border-top-left-radius: 3px\; border-top-right-radius: 3px\; font-family: inherit\;">&nbsp\;</div>\n</div>\n</div>\n
LOCATION:601 School Rd. \, Aberdeen Wa 98520
UID:e.26.8217
SEQUENCE:3
DTSTAMP:20260425T180942Z
URL:https://chamber.graysharbor.org/events/details/central-park-bazaar-8217
END:VEVENT

END:VCALENDAR
