BEGIN:VCALENDAR
VERSION:2.0
PRODID:-//ChamberMaster//Event Calendar 2.0//EN
METHOD:PUBLISH
X-PUBLISHED-TTL:P3D
REFRESH-INTERVAL:P3D
CALSCALE:GREGORIAN
BEGIN:VEVENT
DTSTART:20190310T013000Z
DTEND:20190310T060000Z
X-MICROSOFT-CDO-ALLDAYEVENT:FALSE
SUMMARY:Central Park PTO Auction
DESCRIPTION:Join us for our annual PTO auction benefiting Central Park Elementary! A silent and live auction with a variety of auction items will be held.Entrance is a suggested donation of $5. A no-host bar and dinner will be available for purchase.
X-ALT-DESC;FMTTYPE=text/html:Join us for our annual PTO auction benefiting Central Park Elementary! A silent and live auction with a variety of auction items will be held.Entrance is a suggested donation of $5. A no-host bar and dinner will be available for purchase.
LOCATION:Log Pavilion
UID:e.26.11762
SEQUENCE:3
DTSTAMP:20260424T163255Z
URL:https://chamber.graysharbor.org/events/details/central-park-pto-auction-11762
END:VEVENT

END:VCALENDAR
