BEGIN:VCALENDAR
VERSION:2.0
PRODID:-//ChamberMaster//Event Calendar 2.0//EN
METHOD:PUBLISH
X-PUBLISHED-TTL:P3D
REFRESH-INTERVAL:P3D
CALSCALE:GREGORIAN
BEGIN:VEVENT
DTSTART:20181103T160000Z
DTEND:20181103T230000Z
X-MICROSOFT-CDO-ALLDAYEVENT:FALSE
SUMMARY:Central Park PTO Holiday Bazaar
DESCRIPTION:Local Vendors and Crafters\, home made crafts\, business consultants\, jewelry\, garage sellers and more! Food will be for sale in the kitchen and a Seahawks & chocolate raffle basket to be raffled off as well. Contact the Central Park PTO Holiday Bazaar on facebook if interested in a table.
X-ALT-DESC;FMTTYPE=text/html:Local Vendors and Crafters\, home made crafts\, business consultants\, jewelry\, garage sellers and more! Food will be for sale in the kitchen and a Seahawks &amp\; chocolate raffle basket to be raffled off as well. Contact the Central Park PTO Holiday Bazaar on facebook if interested in a table.
LOCATION:601 School Rd\, Aberdeen Wa 98520
UID:e.26.11287
SEQUENCE:3
DTSTAMP:20260424T224042Z
URL:https://chamber.graysharbor.org/events/details/central-park-pto-holiday-bazaar-11287
END:VEVENT

END:VCALENDAR
