BEGIN:VCALENDAR
VERSION:2.0
PRODID:-//ChamberMaster//Event Calendar 2.0//EN
METHOD:PUBLISH
X-PUBLISHED-TTL:P3D
REFRESH-INTERVAL:P3D
CALSCALE:GREGORIAN
BEGIN:VEVENT
DTSTART:20210106T020000Z
DTEND:20210106T024500Z
X-MICROSOFT-CDO-ALLDAYEVENT:FALSE
SUMMARY:Certificate in Grantwriting
DESCRIPTION:Certificate in Grantwriting - $499. This comprehensive grant writing course walks students through prospect research\, organizational readiness\, grant strategy\, budget\, writing the proposal\, building relationships with grantmakers\, grants management\, reporting\, and ethics. This course is perfect for both beginners and intermediate/advanced writers who are looking to brush up their skills. Each student writes a grant proposal during the course with the assistance of the instructor. The proposal must be completed to earn the certificate.
X-ALT-DESC;FMTTYPE=text/html:Certificate in Grantwriting - $499. This comprehensive grant writing course walks students through prospect research\, organizational readiness\, grant strategy\, budget\, writing the proposal\, building relationships with grantmakers\, grants management\, reporting\, and ethics. This course is perfect for both beginners and intermediate/advanced writers who are looking to brush up their skills. Each student writes a grant proposal during the course with the assistance of the instructor. The proposal must be completed to earn the certificate.
LOCATION:Online\, on-demand\, interactive
UID:e.26.12562
SEQUENCE:3
DTSTAMP:20260424T024913Z
URL:https://chamber.graysharbor.org/events/details/certificate-in-grantwriting-12562
END:VEVENT

END:VCALENDAR
