BEGIN:VCALENDAR
VERSION:2.0
PRODID:-//ChamberMaster//Event Calendar 2.0//EN
METHOD:PUBLISH
X-PUBLISHED-TTL:P3D
REFRESH-INTERVAL:P3D
CALSCALE:GREGORIAN
BEGIN:VEVENT
DTSTART:20191109T180000Z
DTEND:20191109T230000Z
X-MICROSOFT-CDO-ALLDAYEVENT:FALSE
SUMMARY:Channel Point Holiday Bazaar
DESCRIPTION:Unique Gifts * Handmade Items * Baked Goods * Local and National Vendors\n\nCalling all holiday shoppers - and Makers\, Crafters and Bakers!\n\nTo reserve vendor space or for other information\, please call (360)532-9000.
X-ALT-DESC;FMTTYPE=text/html:<div>Unique Gifts * Handmade Items * Baked Goods * Local and National Vendors<br />\nCalling all holiday shoppers - and Makers\, Crafters and Bakers!<br />\nTo reserve vendor space or for other information\, please call (360)532-9000.</div>\n
LOCATION:Village Concepts of Hoquiam - Channel Point 907 K Street\, Hoquiam\, WA 98550
UID:e.26.12240
SEQUENCE:3
DTSTAMP:20260424T041911Z
URL:https://chamber.graysharbor.org/events/details/channel-point-holiday-bazaar-12240
END:VEVENT

END:VCALENDAR
