BEGIN:VCALENDAR
VERSION:2.0
PRODID:-//ChamberMaster//Event Calendar 2.0//EN
METHOD:PUBLISH
X-PUBLISHED-TTL:P3D
REFRESH-INTERVAL:P3D
CALSCALE:GREGORIAN
BEGIN:VEVENT
DTSTART:20200225T220000Z
DTEND:20200225T230000Z
X-MICROSOFT-CDO-ALLDAYEVENT:FALSE
SUMMARY:Channel Point Mardi Gras Parade and Party
DESCRIPTION:Winter weather getting you down? Come to Village Concepts of Hoquiam - Channel Point Village and chase away the winter blues with a Mardi Gras Parade and Party! It's free and open to the public. Consider decorating something wheeled   like a walker\, wheelchair\, or cart\, and/or decorate yourself - and participate in our indoor parade. Then relax with tasty goodies at the party that follows. Children accompanied by an adult are encouraged to join us. RSVP's are appreciated - please call (360)532-9000. Thank you!
X-ALT-DESC;FMTTYPE=text/html:<span style="color:rgb(29\, 33\, 41)\; font-family:helvetica\,arial\,sans-serif\; font-size:14px">Winter weather getting you down? Come to Village Concepts of Hoquiam - Channel Point Village and chase away the winter blues with a Mardi Gras Parade and Party! It&rsquo\;s free and open to the public. Consider decorating something wheeled &ndash\; like a walker\, wheelchair\, or cart\, and/or decorate yourself - and participate in our indoor parade. Then relax with tasty goodies at the party that follows. Children accompanied by an adult are encouraged to join us. RSVP&#39\;s are appreciated - please call (360)532-9000. Thank you!</span>
LOCATION:Village Concepts of Hoquiam - Channel Point Village 907 K Street\, Hoquiam\, WA 98550
UID:e.26.12439
SEQUENCE:3
DTSTAMP:20260424T060158Z
URL:https://chamber.graysharbor.org/events/details/channel-point-mardi-gras-parade-and-party-12439
END:VEVENT

END:VCALENDAR
