BEGIN:VCALENDAR
VERSION:2.0
PRODID:-//ChamberMaster//Event Calendar 2.0//EN
METHOD:PUBLISH
X-PUBLISHED-TTL:P3D
REFRESH-INTERVAL:P3D
CALSCALE:GREGORIAN
BEGIN:VEVENT
DTSTART:20191113T230000Z
DTEND:20191114T000000Z
X-MICROSOFT-CDO-ALLDAYEVENT:FALSE
SUMMARY:Channel Point Speaker Series
DESCRIPTION:Please join us for an informative discussion with Dr. Mark Van Hemert\, Doctor of Chiropractic at Hoquiam Chiropractic. Dr. Van Hemert has been a practicing Chiropractor for many years on the Harbor and enjoys sharing how chiropractic care can help with a number of conditions and keep you on a path of wellness. Channel Point's Speaker Series is free and open to the public. Refreshments will be served.
X-ALT-DESC;FMTTYPE=text/html:<span style="font-size:14px\;">Please join us for an informative discussion with Dr. Mark Van Hemert\, Doctor of Chiropractic at Hoquiam Chiropractic. Dr. Van Hemert has been a practicing Chiropractor for many years on the Harbor and enjoys sharing how chiropractic care can help with a number of conditions and keep you on a path of wellness. Channel Point&#39\;s Speaker Series is free and open to the public. Refreshments will be served.</span>
LOCATION:Village Concepts of Hoquiam - Channel Point Village
UID:e.26.12288
SEQUENCE:3
DTSTAMP:20260424T041909Z
URL:https://chamber.graysharbor.org/events/details/channel-point-speaker-series-12288
END:VEVENT

END:VCALENDAR
