BEGIN:VCALENDAR
VERSION:2.0
PRODID:-//ChamberMaster//Event Calendar 2.0//EN
METHOD:PUBLISH
X-PUBLISHED-TTL:P3D
REFRESH-INTERVAL:P3D
CALSCALE:GREGORIAN
BEGIN:VEVENT
DTSTART:20181011T230000Z
DTEND:20181012T000000Z
X-MICROSOFT-CDO-ALLDAYEVENT:FALSE
SUMMARY:Channel Point Speaker Series - Demystifying Acupuncture and Tai Chi
DESCRIPTION:Please join us for a presentation from Doris Reed\, licensed Acupuncturist and owner of Reed Acupuncture and Oriental Medicine. Doris also teaches a Tai Chi class at Grays Harbor College. Have you ever wondered how acupuncture works? You may have heard that Tai Chi is helpful with preventing falls but not been sure why. Doris will walk us through the information and answer questions. There will be a prize drawing for a gift basket and tasty refreshments will be served.
X-ALT-DESC;FMTTYPE=text/html:Please join us for a presentation from Doris Reed\, licensed Acupuncturist and owner of Reed Acupuncture and Oriental Medicine. Doris also teaches a Tai Chi class at Grays Harbor College. Have you ever wondered how acupuncture works? You may have heard that Tai Chi is helpful with preventing falls but not been sure why. Doris will walk us through the information and answer questions. There will be a prize drawing for a gift basket and tasty refreshments will be served.
LOCATION:Village Concepts of Hoquiam - Channel Point Village 907 K Street Hoquiam\, WA 98550
UID:e.26.11281
SEQUENCE:3
DTSTAMP:20260425T015846Z
URL:https://chamber.graysharbor.org/events/details/channel-point-speaker-series-demystifying-acupuncture-and-tai-chi-11281
END:VEVENT

END:VCALENDAR
