BEGIN:VCALENDAR
VERSION:2.0
PRODID:-//ChamberMaster//Event Calendar 2.0//EN
METHOD:PUBLISH
X-PUBLISHED-TTL:P3D
REFRESH-INTERVAL:P3D
CALSCALE:GREGORIAN
BEGIN:VEVENT
DTSTART:20191211T230000Z
DTEND:20191212T000000Z
X-MICROSOFT-CDO-ALLDAYEVENT:FALSE
SUMMARY:Channel Point Speaker Series - Meet Your Hoquiam Mayor-Elect\, Ben Winkelman
DESCRIPTION:Please join us for the monthly Channel Point Speaker Series. This month's installment is a lively conversation with Ben Winkelman\, Hoquiam's Mayor-Elect. Learn some of his plans for Hoquiam\, and Grays Harbor\, and meet new friends. This event is open to the public and refreshments will be served.
X-ALT-DESC;FMTTYPE=text/html:Please join us for the monthly Channel Point Speaker Series. This month&#39\;s installment is a lively conversation with Ben Winkelman\, Hoquiam&#39\;s Mayor-Elect. Learn some of his plans for Hoquiam\, and Grays Harbor\, and meet new friends. This event is open to the public and refreshments will be served.
LOCATION:Village Concepts of Hoquiam - Channel Point Village 907 K Street Hoquiam\, WA 98550
UID:e.26.12313
SEQUENCE:3
DTSTAMP:20260424T042306Z
URL:https://chamber.graysharbor.org/events/details/channel-point-speaker-series-meet-your-hoquiam-mayor-elect-ben-winkleman-12313
END:VEVENT

END:VCALENDAR
