BEGIN:VCALENDAR
VERSION:2.0
PRODID:-//ChamberMaster//Event Calendar 2.0//EN
METHOD:PUBLISH
X-PUBLISHED-TTL:P3D
REFRESH-INTERVAL:P3D
CALSCALE:GREGORIAN
BEGIN:VEVENT
DTSTART:20190522T220000Z
DTEND:20190522T230000Z
X-MICROSOFT-CDO-ALLDAYEVENT:FALSE
SUMMARY:Channel Point Speaker Series - Phyllis Shaughnessy of The Green Lantern Lunch Program
DESCRIPTION:Please join us for an engaging conversation with Phyllis Shaughnessy\, founder and manager of the Green Lantern Lunch Program\, which provides thousands of free lunches for children in the North Beach area of Grays Harbor County. This event is free and open to the public. Refreshments served.
X-ALT-DESC;FMTTYPE=text/html:Please join us for an engaging conversation with Phyllis Shaughnessy\, founder and manager of the Green Lantern Lunch Program\, which provides thousands of free lunches for children in the North Beach area of Grays Harbor County. This event is free and open to the public. Refreshments served.
LOCATION:907 K Street\, Hoquiam\, WA 98550
UID:e.26.12019
SEQUENCE:3
DTSTAMP:20260424T133036Z
URL:https://chamber.graysharbor.org/events/details/channel-point-speaker-series-phyllis-shaughnessy-of-the-green-lantern-lunch-program-12019
END:VEVENT

END:VCALENDAR
