BEGIN:VCALENDAR
VERSION:2.0
PRODID:-//ChamberMaster//Event Calendar 2.0//EN
METHOD:PUBLISH
X-PUBLISHED-TTL:P3D
REFRESH-INTERVAL:P3D
CALSCALE:GREGORIAN
BEGIN:VEVENT
DTSTART:20190724T220000Z
DTEND:20190724T230000Z
X-MICROSOFT-CDO-ALLDAYEVENT:FALSE
SUMMARY:Channel Point Speaker Series - Preventing Senior Fraud
DESCRIPTION:Please join us for a presentation on Preventing Senior Fraud and finding assistance with Elena G. Huizar\, Outreach Services Supervisor in the Consumer Protection Division of the Office of the Attorney General of Washington\, followed by Q&A. Consumers lose billions of dollars each year to fraud. People over the age of 50 are especially vulnerable and account for over half of all victims\, according to a study by AARP. Learn about common scams targeting seniors and how to avoid them. This FREE event is open to the public and refreshments will be served.
X-ALT-DESC;FMTTYPE=text/html:Please join us for a presentation on Preventing Senior Fraud and finding assistance with Elena G. Huizar\, Outreach Services Supervisor in the Consumer Protection Division of the Office of the Attorney General of Washington\, followed by Q&amp\;A. Consumers lose billions of dollars each year to fraud. People over the age of 50 are especially vulnerable and account for over half of all victims\, according to a study by AARP. Learn about common scams targeting seniors and how to avoid them. This FREE event is open to the public and refreshments will be served.
LOCATION:Village Concepts of Hoquiam - Channel Point 907 K Street Hoquiam\, WA 98550
UID:e.26.12094
SEQUENCE:3
DTSTAMP:20260424T104438Z
URL:https://chamber.graysharbor.org/events/details/channel-point-speaker-series-preventing-senior-fraud-12094
END:VEVENT

END:VCALENDAR
