BEGIN:VCALENDAR
VERSION:2.0
PRODID:-//ChamberMaster//Event Calendar 2.0//EN
METHOD:PUBLISH
X-PUBLISHED-TTL:P3D
REFRESH-INTERVAL:P3D
CALSCALE:GREGORIAN
BEGIN:VEVENT
DTSTART:20190925T220000Z
DTEND:20190925T230000Z
X-MICROSOFT-CDO-ALLDAYEVENT:FALSE
SUMMARY:Channel Point Speaker Series - Prominent Harborites and Their Impact with Tom Quigg
DESCRIPTION:Tom Quigg\, proud Harborite\, Port of Grays Harbor Commissioner\, and Real Estate Broker\, will present on prominent Harborites and their impact on the world. This will be a fun and engaging talk for those new to the Harbor and long-timers alike. This is open to the public and refreshments will be served. We hope you can join us!
X-ALT-DESC;FMTTYPE=text/html:Tom Quigg\, proud Harborite\, Port of Grays Harbor Commissioner\, and Real Estate Broker\, will present on prominent Harborites and their impact on the world. This will be a fun and engaging talk for those new to the Harbor and long-timers alike. This is open to the public and refreshments will be served. We hope you can join us!
LOCATION:Village Concepts of Hoquiam - Channel Point
UID:e.26.12189
SEQUENCE:3
DTSTAMP:20260424T074424Z
URL:https://chamber.graysharbor.org/events/details/channel-point-speaker-series-prominent-harborites-and-their-impact-with-tom-quigg-12189
END:VEVENT

END:VCALENDAR
