BEGIN:VCALENDAR
VERSION:2.0
PRODID:-//ChamberMaster//Event Calendar 2.0//EN
METHOD:PUBLISH
X-PUBLISHED-TTL:P3D
REFRESH-INTERVAL:P3D
CALSCALE:GREGORIAN
BEGIN:VEVENT
DTSTART:20200129T230000Z
DTEND:20200130T000000Z
X-MICROSOFT-CDO-ALLDAYEVENT:FALSE
SUMMARY:Channel Point Speaker Series - Virtual Tour of the Ghost Forest of Copalis
DESCRIPTION:Please join us for this month's installment of the Channel Point Speaker Series - a Virtual Tour of the Ghost Forest of Copalis with Buck Giles\, owner of Buck's Bikes at Seabrook. Buck leads paddle tours of this unique geological area\, among other outdoor experiences. Come in out of the cold and learn something new about our beautiful county. This event is FREE\, open to the public and refreshments will be served.
X-ALT-DESC;FMTTYPE=text/html:<span style="color:rgb(29\, 33\, 41)\; font-family:helvetica\,arial\,sans-serif\; font-size:14px">Please join us for this month&#39\;s installment of the Channel Point Speaker Series - a Virtual Tour of the Ghost Forest of Copalis with Buck Giles\, owner of Buck&#39\;s Bikes at Seabrook. Buck leads paddle tours of this unique geological area\, among other outdoor experiences. Come in out of the cold and learn something new about our beautiful county. This event is FREE\, open to the public and refreshments will be served.</span>
LOCATION:Village Concepts of Hoquiam - Channel Point Village 907 K Street Hoquiam\, WA 98550
UID:e.26.12352
SEQUENCE:3
DTSTAMP:20260424T042403Z
URL:https://chamber.graysharbor.org/events/details/channel-point-speaker-series-virtual-tour-of-the-ghost-forest-of-copalis-12352
END:VEVENT

END:VCALENDAR
