BEGIN:VCALENDAR
VERSION:2.0
PRODID:-//ChamberMaster//Event Calendar 2.0//EN
METHOD:PUBLISH
X-PUBLISHED-TTL:P3D
REFRESH-INTERVAL:P3D
CALSCALE:GREGORIAN
BEGIN:VEVENT
DTSTART:20190502T203000Z
DTEND:20190502T213000Z
X-MICROSOFT-CDO-ALLDAYEVENT:FALSE
SUMMARY:Channel Point Speaker Series with Kim Wyman\, Washington Secretary of State
DESCRIPTION:Please join us at Village Concepts of Hoquiam - Channel Point Village as we welcome Washington Secretary of State Kim Wyman\, who will speak about her office and the programs she oversees\, including Elections and Legacy Washington\, which chronicles extraordinary stories of Washingtonians.
X-ALT-DESC;FMTTYPE=text/html:<p><span style="color:rgb(34\, 34\, 34)\; font-family:arial\,sans-serif\; font-size:16px">Please join us at Village Concepts of Hoquiam - Channel Point Village as we welcome</span><span style="color:rgb(34\, 34\, 34)\; font-family:arial\,sans-serif\; font-size:16px">&nbsp\;Washington Secretary of State Kim Wyman\, who will speak about her office and the programs she oversees\, including E</span><span style="color:rgb(34\, 34\, 34)\; font-family:arial\,sans-serif\; font-size:16px">lections and Legacy Washington\, which chronicles extraordinary stories of Washingtonians.&nbsp\;</span></p>\n
LOCATION:Village Concepts of Hoquiam - Channel Point Village 907 K Street Hoquiam\, WA 98550
UID:e.26.11942
SEQUENCE:3
DTSTAMP:20260424T133327Z
URL:https://chamber.graysharbor.org/events/details/channel-point-speaker-series-with-kim-wyman-washington-secretary-of-state-11942
END:VEVENT

END:VCALENDAR
