BEGIN:VCALENDAR
VERSION:2.0
PRODID:-//ChamberMaster//Event Calendar 2.0//EN
METHOD:PUBLISH
X-PUBLISHED-TTL:P3D
REFRESH-INTERVAL:P3D
CALSCALE:GREGORIAN
BEGIN:VEVENT
DTSTART:20181110T180000Z
DTEND:20181110T220000Z
X-MICROSOFT-CDO-ALLDAYEVENT:FALSE
SUMMARY:Channel Point Village Holiday Bazaar
DESCRIPTION:Handmade items\, unique crafts\, baked goods and local and national vendors available. To reserve a space as a vendor or for other information\, please call (360) 532-9000.
X-ALT-DESC;FMTTYPE=text/html:<p style="background-color: transparent\; box-sizing: border-box\; color: rgb(34\, 34\, 34)\; font-family: Verdana\,Geneva\,sans-serif\; font-size: 15px\; font-style: normal\; font-variant: normal\; font-weight: 400\; letter-spacing: normal\; line-height: 26px\; margin-bottom: 26px\; margin-top: 0px\; orphans: 2\; text-align: left\; text-decoration: none\; text-indent: 0px\; text-transform: none\; -webkit-text-stroke-width: 0px\; white-space: normal\; word-spacing: 0px\; word-wrap: break-word\;">Handmade items\, unique crafts\, baked goods and local and national vendors available. To reserve a space as a vendor or for other information\, please call (360) 532-9000.</p>\n
LOCATION:Channel Point Village 907 K St Hoquiam\, WA 98550
UID:e.26.11331
SEQUENCE:3
DTSTAMP:20260424T224344Z
URL:https://chamber.graysharbor.org/events/details/channel-point-village-holiday-bazaar-11331
END:VEVENT

END:VCALENDAR
