BEGIN:VCALENDAR
VERSION:2.0
PRODID:-//ChamberMaster//Event Calendar 2.0//EN
METHOD:PUBLISH
X-PUBLISHED-TTL:P3D
REFRESH-INTERVAL:P3D
CALSCALE:GREGORIAN
BEGIN:VEVENT
DTSTART:20190309T010000Z
DTEND:20190309T040000Z
X-MICROSOFT-CDO-ALLDAYEVENT:FALSE
SUMMARY:Charitable Suds
DESCRIPTION:Friday\, March 8th we are pouring pints to support the Firefighter Stairclimb for Leukemia & Lymphoma Society along with Aberdeen Firefighters Local 2639! Climb\, Conquer\, Cure!
X-ALT-DESC;FMTTYPE=text/html:<span style="caret-color: rgb(29\, 33\, 41)\; color: rgb(29\, 33\, 41)\; font-family: system-ui\, -apple-system\, BlinkMacSystemFont\, &quot\;.SFNSText-Regular&quot\;\, sans-serif\; font-size: 14px\; white-space: pre-wrap\;">Friday\, March 8th we are pouring pints to support the Firefighter Stairclimb for Leukemia &amp\; Lymphoma Society along with Aberdeen Firefighters Local 2639! Climb\, Conquer\, Cure!</span>
LOCATION:pin Steam Donkey Brewing Company 101 E Wishkah\, Aberdeen\, Washington 98520
UID:e.26.11804
SEQUENCE:3
DTSTAMP:20260424T163127Z
URL:https://chamber.graysharbor.org/events/details/charitable-suds-11804
END:VEVENT

END:VCALENDAR
