BEGIN:VCALENDAR
VERSION:2.0
PRODID:-//ChamberMaster//Event Calendar 2.0//EN
METHOD:PUBLISH
X-PUBLISHED-TTL:P3D
REFRESH-INTERVAL:P3D
CALSCALE:GREGORIAN
BEGIN:VEVENT
DTSTART:20200118T010000Z
DTEND:20200118T040000Z
X-MICROSOFT-CDO-ALLDAYEVENT:FALSE
SUMMARY:Charitable Suds: Aberdeen Local 2639 Firefighter Stairclimb
DESCRIPTION:This month marks Steam Dinkey's 2nd annual fundraiser for Aberdeen Firefighter Local 2639 Firefighter Stairclimb! It is that time of year to put your money where your pint is\, and donate to our Local 2639 that are participating in the 2020 LLS Firefighter Stairclimb! We will be pouring pints and donating from 5-8pm\, so join us for a great cause with great beer!
X-ALT-DESC;FMTTYPE=text/html:<span style="caret-color: rgb(29\, 33\, 41)\; color: rgb(29\, 33\, 41)\; font-family: system-ui\, -apple-system\, BlinkMacSystemFont\, &quot\;.SFNSText-Regular&quot\;\, sans-serif\; font-size: 14px\; white-space: pre-wrap\;">This month marks Steam Dinkey&#39\;s 2nd annual fundraiser for Aberdeen Firefighter Local 2639 Firefighter Stairclimb! It is that time of year to put your money where your pint is\, and donate to our Local 2639 that are participating in the 2020 LLS Firefighter Stairclimb! We will be pouring pints and donating from 5-8pm\, so join us for a great cause with great beer!</span>
LOCATION:pin Steam Donkey Brewing Company 101 E Wishkah\, Aberdeen\, Washington 98520
UID:e.26.12353
SEQUENCE:3
DTSTAMP:20260424T042200Z
URL:https://chamber.graysharbor.org/events/details/charitable-suds-aberdeen-local-2639-firefighter-stairclimb-12353
END:VEVENT

END:VCALENDAR
