BEGIN:VCALENDAR
VERSION:2.0
PRODID:-//ChamberMaster//Event Calendar 2.0//EN
METHOD:PUBLISH
X-PUBLISHED-TTL:P3D
REFRESH-INTERVAL:P3D
CALSCALE:GREGORIAN
BEGIN:VEVENT
DTSTART;VALUE=DATE:20200313
DTEND;VALUE=DATE:20200316
TRANSP:TRANSPARENT
X-MICROSOFT-CDO-ALLDAYEVENT:TRUE
SUMMARY:Charlotte's Web
DESCRIPTION:Driftwood Children's Theatre presents: Charlotte's Web\n\n\n\nBook by E.B. White\n\nAdapted by Joseph Robinette\n\nDirected by Val Parker\n\n\n\nCome see the classic children's book\, Charlottes Web\, brought to life by the Driftwood Children's Theatre. It's the tale of a pig named Wilbur who befriends a barn spider named Charlotte. When Wilbur is in danger of being slaughtered\, Charlotte takes it upon herself to save Wilburs life. With only one weekend to see the show\, you won't want to wait to get tickets! \n\n\n\nAll performances will take place at the Driftwood Playhouse. We hope to see you there!
X-ALT-DESC;FMTTYPE=text/html:<em><span style="caret-color: rgb(29\, 33\, 41)\; color: rgb(29\, 33\, 41)\; font-size: 14px\; white-space: pre-wrap\;"><font face="arial">Driftwood Children&rsquo\;s Theatre presents:</font><font face="system-ui\, -apple-system\, BlinkMacSystemFont\, .SFNSText-Regular\, sans-serif"> </font></span><span style="font-family: arial\; caret-color: rgb(29\, 33\, 41)\; color: rgb(29\, 33\, 41)\; font-size: 14px\; white-space: pre-wrap\;">Charlotte&rsquo\;s Web</span></em><br style="caret-color: rgb(29\, 33\, 41)\; color: rgb(29\, 33\, 41)\; font-family: system-ui\, -apple-system\, BlinkMacSystemFont\, &quot\;.SFNSText-Regular&quot\;\, sans-serif\; font-size: 14px\; white-space: pre-wrap\;" />\n<br style="caret-color: rgb(29\, 33\, 41)\; color: rgb(29\, 33\, 41)\; font-family: system-ui\, -apple-system\, BlinkMacSystemFont\, &quot\;.SFNSText-Regular&quot\;\, sans-serif\; font-size: 14px\; white-space: pre-wrap\;" />\n<span style="font-family: arial\; caret-color: rgb(29\, 33\, 41)\; color: rgb(29\, 33\, 41)\; font-size: 14px\; white-space: pre-wrap\;">Book by E.B. White</span><br style="caret-color: rgb(29\, 33\, 41)\; color: rgb(29\, 33\, 41)\; font-family: system-ui\, -apple-system\, BlinkMacSystemFont\, &quot\;.SFNSText-Regular&quot\;\, sans-serif\; font-size: 14px\; white-space: pre-wrap\;" />\n<span style="font-family: arial\; caret-color: rgb(29\, 33\, 41)\; color: rgb(29\, 33\, 41)\; font-size: 14px\; white-space: pre-wrap\;">Adapted by Joseph Robinette</span><br style="caret-color: rgb(29\, 33\, 41)\; color: rgb(29\, 33\, 41)\; font-family: system-ui\, -apple-system\, BlinkMacSystemFont\, &quot\;.SFNSText-Regular&quot\;\, sans-serif\; font-size: 14px\; white-space: pre-wrap\;" />\n<span style="font-family: arial\; caret-color: rgb(29\, 33\, 41)\; color: rgb(29\, 33\, 41)\; font-size: 14px\; white-space: pre-wrap\;">Directed by Val Parker</span><br style="caret-color: rgb(29\, 33\, 41)\; color: rgb(29\, 33\, 41)\; font-family: system-ui\, -apple-system\, BlinkMacSystemFont\, &quot\;.SFNSText-Regular&quot\;\, sans-serif\; font-size: 14px\; white-space: pre-wrap\;" />\n<br style="caret-color: rgb(29\, 33\, 41)\; color: rgb(29\, 33\, 41)\; font-family: system-ui\, -apple-system\, BlinkMacSystemFont\, &quot\;.SFNSText-Regular&quot\;\, sans-serif\; font-size: 14px\; white-space: pre-wrap\;" />\n<span style="font-family: arial\; caret-color: rgb(29\, 33\, 41)\; color: rgb(29\, 33\, 41)\; font-size: 14px\; white-space: pre-wrap\;">Come see the classic children&rsquo\;s book\, Charlottes Web\, brought to life by the Driftwood Children&rsquo\;s Theatre. </span><span style="font-family: arial\; caret-color: rgb(29\, 33\, 41)\; color: rgb(29\, 33\, 41)\; font-size: 14px\; white-space: pre-wrap\;">It&rsquo\;s the tale of a pig named Wilbur who befriends a barn spider named Charlotte. When Wilbur is in danger of being slaughtered\, Charlotte takes it upon herself to save Wilburs life. </span><span style="caret-color: rgb(29\, 33\, 41)\; color: rgb(29\, 33\, 41)\; font-family: arial\; font-size: 14px\; white-space: pre-wrap\;">With only one weekend to see the show\, you won&rsquo\;t want to wait to get tickets! </span><br />\n<br />\n<span style="font-family: arial\; caret-color: rgb(29\, 33\, 41)\; color: rgb(29\, 33\, 41)\; font-size: 14px\; white-space: pre-wrap\;">All performances will take place at the Driftwood Playhouse. We hope to see you there! </span>
LOCATION:pin Driftwood Players 120 E 3rd St\, Aberdeen\, Washington 98520
UID:e.26.12445
SEQUENCE:3
DTSTAMP:20260424T055836Z
URL:https://chamber.graysharbor.org/events/details/charlotte-s-web-12445
END:VEVENT

END:VCALENDAR
