BEGIN:VCALENDAR
VERSION:2.0
PRODID:-//ChamberMaster//Event Calendar 2.0//EN
METHOD:PUBLISH
X-PUBLISHED-TTL:P3D
REFRESH-INTERVAL:P3D
CALSCALE:GREGORIAN
BEGIN:VEVENT
DTSTART:20181208T180000Z
DTEND:20181209T230000Z
X-MICROSOFT-CDO-ALLDAYEVENT:FALSE
SUMMARY:Chateau Westport Holiday Bazaar
DESCRIPTION:Please join us for our 2nd Annual Chateau Westport Holiday Bazaar! Local artisans\, craftspeople\, farmers and bakers will showcase their creations to delight the senses! We will also have pop-up shops for all your favorites like Scentsy\, Lularoe\, Paparazzi Jewelry ($5 Bling) and SeneGence LipSense\n\nWe hope to see you and your families for some Christmas cheer
X-ALT-DESC;FMTTYPE=text/html:<span style="display: inline !important\; float: none\; background-color: transparent\; color: rgb(29\, 33\, 41)\; font-family: Helvetica\,Arial\,sans-serif\; font-size: 14px\; font-style: normal\; font-variant: normal\; font-weight: 400\; letter-spacing: normal\; orphans: 2\; text-align: left\; text-decoration: none\; text-indent: 0px\; text-transform: none\; -webkit-text-stroke-width: 0px\; white-space: normal\; word-spacing: 0px\;">Please join us for our 2nd Annual Chateau Westport Holiday Bazaar! Local artisans\, craftspeople\, farmers and bakers will showcase their creations to delight the senses! We will also have pop-up shops for all your favorites like Scentsy\, Lularoe\, Paparazzi Jewelry ($5 Bling) and SeneGence LipSense</span><br style="background-color: transparent\; color: rgb(29\, 33\, 41)\; font-family: Helvetica\,Arial\,sans-serif\; font-size: 14px\; font-style: normal\; font-variant: normal\; font-weight: 400\; letter-spacing: normal\; orphans: 2\; text-align: left\; text-decoration: none\; text-indent: 0px\; text-transform: none\; -webkit-text-stroke-width: 0px\; white-space: normal\; word-spacing: 0px\;" />\n<span style="display: inline !important\; float: none\; background-color: transparent\; color: rgb(29\, 33\, 41)\; font-family: Helvetica\,Arial\,sans-serif\; font-size: 14px\; font-style: normal\; font-variant: normal\; font-weight: 400\; letter-spacing: normal\; orphans: 2\; text-align: left\; text-decoration: none\; text-indent: 0px\; text-transform: none\; -webkit-text-stroke-width: 0px\; white-space: normal\; word-spacing: 0px\;">We hope to see you and your families for some Christmas cheer&#127876\;</span>
LOCATION:Chateau Westport
UID:e.26.11285
SEQUENCE:3
DTSTAMP:20260424T224204Z
URL:https://chamber.graysharbor.org/events/details/chateau-westport-holiday-bazaar-11285
END:VEVENT

END:VCALENDAR
