BEGIN:VCALENDAR
VERSION:2.0
PRODID:-//ChamberMaster//Event Calendar 2.0//EN
METHOD:PUBLISH
X-PUBLISHED-TTL:P3D
REFRESH-INTERVAL:P3D
CALSCALE:GREGORIAN
BEGIN:VEVENT
DTSTART;VALUE=DATE:20171202
DTEND;VALUE=DATE:20171203
TRANSP:TRANSPARENT
X-MICROSOFT-CDO-ALLDAYEVENT:TRUE
SUMMARY:Chateau Westport Holiday Bazaar
DESCRIPTION:Please join us for our 1st Annual Chateau Westport Holiday Bazaar and Craft Fair. We will have your favorites on display like Stella and Dot\, Lularoe\, LipSense\, Pampered Chef and Scentsy! Local artists and craftspeople will showcase their array of talents in homemade skincare and salves\, dolls and scarves\, jewelry and wooden signs just to name a few! Bring your friends and family to the beach to enjoy some hot apple cider\, Christmas music and pictures with Santa from the Sea  !! (pictures on Saturday only please*) Can't wait to see you for some Christmas cheer!  \n\n\n\nSaturday Hours: 11am - 5pm\n\nSunday Hours: 11am - 3pm
X-ALT-DESC;FMTTYPE=text/html:<span style="color: rgb(75\, 79\, 86)\; font-family: Helvetica\, Arial\, sans-serif\; font-size: 14px\; background-color: rgb(255\, 255\, 255)\;">Please join us for our 1st Annual Chateau Westport Holiday Bazaar and Craft Fair. We will have your favorites on display like Stella and Dot\, Lularoe\, LipSense\, Pampered Chef and Scentsy! Local artists and craftspeople will showcase their array of talents in homemade skincare and salves\, dolls and scarves\, jewelry and wooden signs just to name a few! Bring your friends and family to the beach to enjoy some hot apple cider\, Christmas music and pictures with Santa from the Sea&#128026\;&#127754\;!! (pictures on Saturday only please*) Can&#39\;t wait to see you for some Christmas cheer!&#127873\;&#127876\;</span><br style="color: rgb(75\, 79\, 86)\; font-family: Helvetica\, Arial\, sans-serif\; font-size: 14px\; background-color: rgb(255\, 255\, 255)\;" />\n<br style="color: rgb(75\, 79\, 86)\; font-family: Helvetica\, Arial\, sans-serif\; font-size: 14px\; background-color: rgb(255\, 255\, 255)\;" />\n<span style="color: rgb(75\, 79\, 86)\; font-family: Helvetica\, Arial\, sans-serif\; font-size: 14px\; background-color: rgb(255\, 255\, 255)\;">Saturday Hours: 11am - 5pm</span><br style="color: rgb(75\, 79\, 86)\; font-family: Helvetica\, Arial\, sans-serif\; font-size: 14px\; background-color: rgb(255\, 255\, 255)\;" />\n<span style="color: rgb(75\, 79\, 86)\; font-family: Helvetica\, Arial\, sans-serif\; font-size: 14px\; background-color: rgb(255\, 255\, 255)\;">Sunday Hours: 11am - 3pm</span>
LOCATION:Chateau Westport
UID:e.26.8341
SEQUENCE:3
DTSTAMP:20260425T163838Z
URL:https://chamber.graysharbor.org/events/details/chateau-westport-holiday-bazaar-8341
END:VEVENT

END:VCALENDAR
