BEGIN:VCALENDAR
VERSION:2.0
PRODID:-//ChamberMaster//Event Calendar 2.0//EN
METHOD:PUBLISH
X-PUBLISHED-TTL:P3D
REFRESH-INTERVAL:P3D
CALSCALE:GREGORIAN
BEGIN:VEVENT
DTSTART:20190217T030000Z
DTEND:20190217T043000Z
X-MICROSOFT-CDO-ALLDAYEVENT:FALSE
SUMMARY:Chateau Westport's "My Funny Valentine"
DESCRIPTION:Join Chateau Westport for a fun night of laughs on February 16th for their special Valentine's Day comedy show! The 90 minute show will feature two acts from comedian Monica Nevi and headliner Duane Goad. Prepare yourself for a hilariously exciting night in Westport.
X-ALT-DESC;FMTTYPE=text/html:Join Chateau Westport for a fun night of laughs on February 16th for their special Valentine&#39\;s Day comedy show! The 90 minute show will feature two acts from comedian Monica Nevi and headliner Duane Goad. Prepare yourself for a hilariously exciting night in Westport.&nbsp\;
LOCATION:Chateau Westport 710 Hancock Westport\, WA
UID:e.26.11749
SEQUENCE:3
DTSTAMP:20260424T181948Z
URL:https://chamber.graysharbor.org/events/details/chateau-westport-s-my-funny-valentine-11749
END:VEVENT

END:VCALENDAR
