BEGIN:VCALENDAR
VERSION:2.0
PRODID:-//ChamberMaster//Event Calendar 2.0//EN
METHOD:PUBLISH
X-PUBLISHED-TTL:P3D
REFRESH-INTERVAL:P3D
CALSCALE:GREGORIAN
BEGIN:VEVENT
DTSTART:20170801T170000Z
DTEND:20170801T190000Z
X-MICROSOFT-CDO-ALLDAYEVENT:FALSE
SUMMARY:Chehalis Land Trust Clean-Up
DESCRIPTION:We will meet at the Polson Museum Parking Lot at 10am to carpool to the site. There is limited road side parking where we clean up. Please bring gloves and wear good solid boots. This is real woods\, there are no paths. A hat is also advised.\n\n\n\nhttps://www.facebook.com/events/112377556080848/?acontext=%7B%22ref%22%3A1%2C%22source%22%3A2%2C%22source_dashboard_filter%22%3A%22discovery%22%2C%22action_history%22%3A%22[%7B%5C%22surface%5C%22%3A%5C%22dashboard%5C%22%2C%5C%22mechanism%5C%22%3A%5C%22event_discover_top_time_filter%5C%22%2C%5C%22extra_data%5C%22%3A[]%7D%2C%7B%5C%22surface%5C%22%3A%5C%22discover_filter_list%5C%22%2C%5C%22mechanism%5C%22%3A%5C%22surface%5C%22%2C%5C%22extra_data%5C%22%3A%7B%5C%22dashboard_filter%5C%22%3A%5C%22discovery%5C%22%7D%7D]%22%2C%22has_source%22%3Atrue%7D
X-ALT-DESC;FMTTYPE=text/html:<span style="color: rgb(75\, 79\, 86)\; font-family: Helvetica\, Arial\, sans-serif\; font-size: 14px\; background-color: rgb(255\, 255\, 255)\;">We will meet at the Polson Museum Parking Lot at 10am to carpool to the site. There is limited road side parking where we clean up. Please bring gloves and wear good solid boots. This is real woods\, there are no paths. A hat is also advised.</span><br />\n<br />\nhttps://www.facebook.com/events/112377556080848/?acontext=%7B%22ref%22%3A1%2C%22source%22%3A2%2C%22source_dashboard_filter%22%3A%22discovery%22%2C%22action_history%22%3A%22[%7B%5C%22surface%5C%22%3A%5C%22dashboard%5C%22%2C%5C%22mechanism%5C%22%3A%5C%22event_discover_top_time_filter%5C%22%2C%5C%22extra_data%5C%22%3A[]%7D%2C%7B%5C%22surface%5C%22%3A%5C%22discover_filter_list%5C%22%2C%5C%22mechanism%5C%22%3A%5C%22surface%5C%22%2C%5C%22extra_data%5C%22%3A%7B%5C%22dashboard_filter%5C%22%3A%5C%22discovery%5C%22%7D%7D]%22%2C%22has_source%22%3Atrue%7D
LOCATION:Polson Museum Park Lot Hoquiam\, WA
UID:e.26.8067
SEQUENCE:3
DTSTAMP:20260425T230222Z
URL:https://chamber.graysharbor.org/events/details/chehalis-land-trust-clean-up-8067
END:VEVENT

END:VCALENDAR
