BEGIN:VCALENDAR
VERSION:2.0
PRODID:-//ChamberMaster//Event Calendar 2.0//EN
METHOD:PUBLISH
X-PUBLISHED-TTL:P3D
REFRESH-INTERVAL:P3D
CALSCALE:GREGORIAN
BEGIN:VEVENT
DTSTART;VALUE=DATE:20190703
DTEND;VALUE=DATE:20190707
TRANSP:TRANSPARENT
X-MICROSOFT-CDO-ALLDAYEVENT:TRUE
SUMMARY:Chief Taholah Days
DESCRIPTION:Check out the annual celebration of the Quinault Indian Nation's Chief Taholah Days that commemorates the 1855 Treaty. \n\nParticipate or watch a a 3 on 3 basketball tournament\, co-ed softball tournament\, parade\, and plenty more fun.\n\nFor a full list of dates\, times and events\, visit the Chief Taholah Days Facebook page or call 360-276-8211 ext. 4610.
X-ALT-DESC;FMTTYPE=text/html:<span style="font-size:14px\;"><span style="font-family:arial\;"><span style="caret-color: rgb(34\, 34\, 34)\; color: rgb(34\, 34\, 34)\;">Check out the annual celebration of the&nbsp\;</span><a class="external" href="http://www.quinaultindiannation.com/" rel="nofollow" style="box-sizing: border-box\; background-color: transparent\; color: rgb(77\, 178\, 236)\; text-decoration: none\; font-family: Verdana\, Geneva\, sans-serif\; font-size: 15px\;" target="_blank">Quinault Indian Nation&rsquo\;s</a><span style="caret-color: rgb(34\, 34\, 34)\; color: rgb(34\, 34\, 34)\;">&nbsp\;Chief Taholah Days that commemorates the 1855 Treaty.&nbsp\;<br />\nParticipate or watch a a 3 on 3 basketball tournament\, co-ed softball tournament\, parade\, and plenty more fun.<br />\nFor a full list of dates\, times and events\, visit the&nbsp\;</span><a class="external" href="https://www.facebook.com/groups/168948169948261/" rel="nofollow" style="box-sizing: border-box\; background-color: transparent\; color: rgb(77\, 178\, 236)\; text-decoration: none\; font-family: Verdana\, Geneva\, sans-serif\; font-size: 15px\;" target="_blank">Chief Taholah Days Facebook page</a><span style="caret-color: rgb(34\, 34\, 34)\; color: rgb(34\, 34\, 34)\;">&nbsp\;or call 360-276-8211 ext. 4610.</span></span></span>
LOCATION:Taholah\, WA
UID:e.26.12089
SEQUENCE:3
DTSTAMP:20260424T104141Z
URL:https://chamber.graysharbor.org/events/details/chief-taholah-days-12089
END:VEVENT

END:VCALENDAR
