BEGIN:VCALENDAR
VERSION:2.0
PRODID:-//ChamberMaster//Event Calendar 2.0//EN
METHOD:PUBLISH
X-PUBLISHED-TTL:P3D
REFRESH-INTERVAL:P3D
CALSCALE:GREGORIAN
BEGIN:VEVENT
DTSTART:20191221T200000Z
DTEND:20191221T220000Z
X-MICROSOFT-CDO-ALLDAYEVENT:FALSE
SUMMARY:Children's Annual Christmas Party
DESCRIPTION:Lunch and pictures with Santa! There will be gifts for kids up to 12 yrs old. Must be accompanied by an adult
X-ALT-DESC;FMTTYPE=text/html:<span style="caret-color: rgb(29\, 33\, 41)\; color: rgb(29\, 33\, 41)\; font-family: system-ui\, -apple-system\, BlinkMacSystemFont\, &quot\;.SFNSText-Regular&quot\;\, sans-serif\; font-size: 14px\; white-space: pre-wrap\;">Lunch and pictures with Santa! There will be gifts for kids up to 12 yrs old. Must be accompanied by an adult &#128512\;</span>
LOCATION:pin VFW 211 E Pacific Ave\, Westport\, Washington 98595
UID:e.26.12323
SEQUENCE:3
DTSTAMP:20260424T025251Z
URL:https://chamber.graysharbor.org/events/details/children-s-annual-christmas-party-12323
END:VEVENT

END:VCALENDAR
