BEGIN:VCALENDAR
VERSION:2.0
PRODID:-//ChamberMaster//Event Calendar 2.0//EN
METHOD:PUBLISH
X-PUBLISHED-TTL:P3D
REFRESH-INTERVAL:P3D
CALSCALE:GREGORIAN
BEGIN:VEVENT
DTSTART:20181215T190000Z
DTEND:20181215T230000Z
X-MICROSOFT-CDO-ALLDAYEVENT:FALSE
SUMMARY:Childrens Christmas Party
DESCRIPTION:Childrens Christmas Party (Open to Public)\nCome on down to the Aberdeen Elks for a lunch with Santa! There will be Hot Dogs\, Fries & Cookies for lunch! Surprise gift bags for the kids! Pictures with Santa! Candy\, Activities & Prizes!
X-ALT-DESC;FMTTYPE=text/html:<h1 class="_5gmx" data-testid="event-permalink-event-name" id="seo_h1_tag" style="background-color: transparent\; color: rgb(29\, 33\, 41)\; display: block\; font-family: Helvetica\,Arial\,sans-serif\; font-size: 20px\; font-style: normal\; font-variant: normal\; font-weight: 400\; letter-spacing: normal\; line-height: 28px\; margin-bottom: 0px\; margin-left: 0px\; margin-right: 12px\; margin-top: 0px\; orphans: 2\; padding-bottom: 0px\; padding-left: 0px\; padding-right: 0px\; padding-top: 0px\; text-align: left\; text-decoration: none\; text-indent: 0px\; text-transform: none\; -webkit-text-stroke-width: 0px\; white-space: normal\; word-spacing: 0px\;">Childrens Christmas Party (Open to Public)</h1>\n<span style="display: inline !important\; float: none\; background-color: transparent\; color: rgb(29\, 33\, 41)\; font-family: Helvetica\,Arial\,sans-serif\; font-size: 14px\; font-style: normal\; font-variant: normal\; font-weight: 400\; letter-spacing: normal\; orphans: 2\; text-align: left\; text-decoration: none\; text-indent: 0px\; text-transform: none\; -webkit-text-stroke-width: 0px\; white-space: normal\; word-spacing: 0px\;">Come on down to the Aberdeen Elks for a lunch with Santa! There will be Hot Dogs\, Fries &amp\; Cookies for lunch! Surprise gift bags for the kids! Pictures with Santa! Candy\, Activities &amp\; Prizes!</span>
LOCATION:Aberdeen WA Elks #593 1712 S Boone St\, Aberdeen\, Washington 98520
UID:e.26.11350
SEQUENCE:3
DTSTAMP:20260424T210736Z
URL:https://chamber.graysharbor.org/events/details/childrens-christmas-party-11350
END:VEVENT

END:VCALENDAR
