BEGIN:VCALENDAR
VERSION:2.0
PRODID:-//ChamberMaster//Event Calendar 2.0//EN
METHOD:PUBLISH
X-PUBLISHED-TTL:P3D
REFRESH-INTERVAL:P3D
CALSCALE:GREGORIAN
BEGIN:VEVENT
DTSTART:20180216T180000Z
DTEND:20180217T010000Z
X-MICROSOFT-CDO-ALLDAYEVENT:FALSE
SUMMARY:Chinese New Year - Year of the Dog Giveaway
DESCRIPTION:Oyhut Bay is a pet-friendly walkable village! We celebrate the Chinese New Year with one for the dogs!\n\n\n\nStroll the village with your dog and stop by the rental office to get a Lucky Red Chinese envelope that could contain a prize!\n\n\n\nStop in and say hello at Riptide Coffee Co. For a treat for your 4 legged friend!
X-ALT-DESC;FMTTYPE=text/html:<span style="color: rgb(75\, 79\, 86)\; font-family: Helvetica\, Arial\, sans-serif\; font-size: 14px\; background-color: rgb(255\, 255\, 255)\;">Oyhut Bay is a pet-friendly walkable village! We celebrate the Chinese New Year with one for the dogs!</span><br style="color: rgb(75\, 79\, 86)\; font-family: Helvetica\, Arial\, sans-serif\; font-size: 14px\; background-color: rgb(255\, 255\, 255)\;" />\n<br style="color: rgb(75\, 79\, 86)\; font-family: Helvetica\, Arial\, sans-serif\; font-size: 14px\; background-color: rgb(255\, 255\, 255)\;" />\n<span style="color: rgb(75\, 79\, 86)\; font-family: Helvetica\, Arial\, sans-serif\; font-size: 14px\; background-color: rgb(255\, 255\, 255)\;">Stroll the village with your dog and stop by the rental office to get a Lucky Red Chinese envelope that could contain a prize!</span><br style="color: rgb(75\, 79\, 86)\; font-family: Helvetica\, Arial\, sans-serif\; font-size: 14px\; background-color: rgb(255\, 255\, 255)\;" />\n<br style="color: rgb(75\, 79\, 86)\; font-family: Helvetica\, Arial\, sans-serif\; font-size: 14px\; background-color: rgb(255\, 255\, 255)\;" />\n<span style="color: rgb(75\, 79\, 86)\; font-family: Helvetica\, Arial\, sans-serif\; font-size: 14px\; background-color: rgb(255\, 255\, 255)\;">Stop in and say hello at Riptide Coffee Co. For a treat for your 4 legged friend!</span>
LOCATION:Oyhut Bay Ocean Shores\, WA
UID:e.26.9511
SEQUENCE:3
DTSTAMP:20260425T150138Z
URL:https://chamber.graysharbor.org/events/details/chinese-new-year-year-of-the-dog-giveaway-9511
END:VEVENT

END:VCALENDAR
