BEGIN:VCALENDAR
VERSION:2.0
PRODID:-//ChamberMaster//Event Calendar 2.0//EN
METHOD:PUBLISH
X-PUBLISHED-TTL:P3D
REFRESH-INTERVAL:P3D
CALSCALE:GREGORIAN
BEGIN:VEVENT
DTSTART:20180224T020000Z
DTEND:20180224T040000Z
X-MICROSOFT-CDO-ALLDAYEVENT:FALSE
SUMMARY:Chocolate After Dark
DESCRIPTION:Come eat\, relax\, and mingle at the Seabrook Town Hall following a long day of festivities. This grown-up only\, ticketed event will feature our very own Rob Paylor\, Owner and Operator of Mill 109. Come join us for a lovely evening of sculpting the Mill's entrees and drink into a decadent experience!\n\n \n\nAlso enjoy some sweet tunes from Anna Robinson as she will be playing throughout the night!
X-ALT-DESC;FMTTYPE=text/html:<div style="margin: 0px\; outline: none 0px\; padding: 0px\; color: rgb(57\, 79\, 90)\; font-family: Ubuntu\, arial\, sans-serif\; font-size: 14px\; background-color: rgb(246\, 247\, 247)\;"><span style="margin: 0px\; outline: none 0px\; padding: 0px\;">Come eat\, relax\, and mingle at the Seabrook Town Hall following a long day of festivities. This grown-up only\, ticketed event will feature our very own Rob Paylor\, Owner and Operator of Mill 109. Come join us for a lovely evening of sculpting the Mill&#39\;s entrees and drink into a decadent experience!</span></div>\n\n<div style="margin: 0px\; outline: none 0px\; padding: 0px\; color: rgb(57\, 79\, 90)\; font-family: Ubuntu\, arial\, sans-serif\; font-size: 14px\; background-color: rgb(246\, 247\, 247)\;">&nbsp\;</div>\n\n<div style="margin: 0px\; outline: none 0px\; padding: 0px\; color: rgb(57\, 79\, 90)\; font-family: Ubuntu\, arial\, sans-serif\; font-size: 14px\; background-color: rgb(246\, 247\, 247)\;"><span style="margin: 0px\; outline: none 0px\; padding: 0px\;">Also enjoy some sweet tunes from Anna Robinson as she will be playing throughout the night!</span></div>\n
LOCATION:Seabrook Town Hall Pacific Beach\, WA
UID:e.26.9524
SEQUENCE:3
DTSTAMP:20260425T132625Z
URL:https://chamber.graysharbor.org/events/details/chocolate-after-dark-9524
END:VEVENT

END:VCALENDAR
