BEGIN:VCALENDAR
VERSION:2.0
PRODID:-//ChamberMaster//Event Calendar 2.0//EN
METHOD:PUBLISH
X-PUBLISHED-TTL:P3D
REFRESH-INTERVAL:P3D
CALSCALE:GREGORIAN
BEGIN:VEVENT
DTSTART;VALUE=DATE:20190221
DTEND;VALUE=DATE:20190225
TRANSP:TRANSPARENT
X-MICROSOFT-CDO-ALLDAYEVENT:TRUE
SUMMARY:Chocolate on the Beach Festival
DESCRIPTION:Attention all chocolate lovers: you're in for a treat as the 12th Annual Chocolate on the Beach Festival returns to Pacific Beach February 21-24. \n\nMake Seabrook your basecamp for all the festival fun. Spanning 13 miles - from Copalis to Moclips - the Chocolate on the Beach Festival features dreamy\, mouth-watering creations of dozens of west coast chocolatiers. \n\nThere's so much to love about the Chocolate on the Beach Festival including breakfast with super heroes\, an eating contest\, chocolate cocktail contest\, recipe contests\, vendors and chocolatiers\, silent auction\, and much more.
X-ALT-DESC;FMTTYPE=text/html:<p style="font-size: 16px\; box-sizing: border-box\; margin: 0px 0px 1.25em\; padding: 0px\; direction: ltr\; font-family: myriad-pro\, sans-serif\; line-height: 1.45\; text-rendering: optimizeLegibility\; letter-spacing: 0.47999998927116394px\; caret-color: rgb(84\, 102\, 108)\; color: rgb(84\, 102\, 108)\;">Attention all chocolate lovers: you&rsquo\;re in for a treat as the&nbsp\;<a href="https://chocolateonthebeachfestival.com/" style="box-sizing: border-box\; background-color: rgba(255\, 255\, 255\, 0)\; color: rgb(132\, 161\, 177)\; line-height: 1.45\; transition: color 0.25s ease-in-out\, text-decoration\;">12th Annual Chocolate on the Beach Festival</a>&nbsp\;returns to Pacific Beach February 21-24.&nbsp\;</p>\n\n<p style="font-size: 16px\; box-sizing: border-box\; margin: 0px 0px 1.25em\; padding: 0px\; direction: ltr\; font-family: myriad-pro\, sans-serif\; line-height: 1.45\; text-rendering: optimizeLegibility\; letter-spacing: 0.47999998927116394px\; caret-color: rgb(84\, 102\, 108)\; color: rgb(84\, 102\, 108)\;">Make Seabrook your basecamp for all the festival fun. Spanning 13 miles - from Copalis to Moclips - the Chocolate on the Beach Festival features dreamy\, mouth-watering creations of dozens of west coast chocolatiers.&nbsp\;</p>\n\n<p style="font-size: 16px\; box-sizing: border-box\; margin: 0px 0px 1.25em\; padding: 0px\; direction: ltr\; font-family: myriad-pro\, sans-serif\; line-height: 1.45\; text-rendering: optimizeLegibility\; letter-spacing: 0.47999998927116394px\; caret-color: rgb(84\, 102\, 108)\; color: rgb(84\, 102\, 108)\;">There&rsquo\;s so much to love about the Chocolate on the Beach Festival including breakfast with super heroes\, an eating contest\, chocolate cocktail contest\, recipe contests\, vendors and chocolatiers\, silent auction\, and much more.</p>\n
LOCATION:Copalis - Moclips\, WA
UID:e.26.11621
SEQUENCE:3
DTSTAMP:20260424T181742Z
URL:https://chamber.graysharbor.org/events/details/chocolate-on-the-beach-festival-11621
END:VEVENT

END:VCALENDAR
