BEGIN:VCALENDAR
VERSION:2.0
PRODID:-//ChamberMaster//Event Calendar 2.0//EN
METHOD:PUBLISH
X-PUBLISHED-TTL:P3D
REFRESH-INTERVAL:P3D
CALSCALE:GREGORIAN
BEGIN:VEVENT
DTSTART;VALUE=DATE:20200227
DTEND;VALUE=DATE:20200302
TRANSP:TRANSPARENT
X-MICROSOFT-CDO-ALLDAYEVENT:TRUE
SUMMARY:Chocolate on the Beach Festival
DESCRIPTION:13 Magical Miles of Chocolate and More!\n\nVendors\, Magical Costume Contests\, and Raffles\, Oh My! Spend the weekend dressed as your favorite Mythical Being and "Leviosa" your way through 13 Miles of Enchanted Chocolate Events & Contests! Don't get into a bewitched situation and miss an event. To reach full ChocoOverload follow us here\, on Facebook and our mobile app for updates\, directions\, and entry forms. We can't wait to share our festival with you!\n\nPDX Superheroes Coalition and You!\n\nSponsored by our Partners at Navy Getaways Pacific Beach\n\nThere will be ensorcelled characters running around the Festival. Family-friendly costumes are encouraged! Sunday at 1pm in the Vendor's Hall of Sweets will be a Costume Contest. Kids\, teenagers\, and adults will be judged in their own categories! Sign up in front of the stage at 12:30pm.\n\nGolden Tickets\n\nWere you lucky enough to score a Golden Ticket?\n\nThat means you were smart enough to stay with one of our Participating Lodging Providers! Bring your ticket to the Info Desk\, located at Pacific Beach Elementary School in order to be entered to win Chocolate OR a stay with our Participating Lodging Providers!\n\nChocolate Vendor's Hall of Sweets\n\nSaturday 2/29/20 10am-5pm   Sunday 3/1/20 11am-4pm\n\nAll the vendors will be located in and in front of the Pacific Beach Elementary school (11 4th St S. Pacific Beach). Here you will find chocolatiers\, artists and crafters sampling and selling all of their chocolate wares.\n\nFestival Souvenir Shop\n\nSponsored by Cheri's Embroidery\n\nWe've got some really exciting new items! Canvas shopping bags\, decals and more! Don't forget to get your shirt personalized on your way through Copalis Crossing! Cheri's Embroidery is also on Facebook!\n\nMagical Themed Costume Contest\n\nOur special Portland guests will help the crowd decide which kid\, teenager and adult are the most magical looking and win a Magical prize! This will be Sunday\, on the main stage at 1pm.\n\nChocolate Eating Contest\n\nThis annual event is just as amazing as it sounds! On Sunday kids\, teenagers & adults compete to reach the bottom of their plate of chocolate pudding to win fun prizes! Registration is at 1:30pm.\n\nYear of Chocolate Raffle\n\nWho wants to win a Year of Chocolate?\n\nThe winner will receive one pound of gourmet chocolates delivered to their home every month for a year! Tickets are only $1 each will be available during the Festival at the Official Raffle Ticket Booth and at the Chocolate Station.\n\nPeople's Choice Awards\n\nWant to reward yourself for being a Chocoholic? We have three contests going with our local businesses! Voting starts at 4pm Thursday and runs through Sunday at Noon! Ballots will be available in the Festival program and at participating locations.\n\nBattle of the Bean (hot & cold coffee drinks)\n\nChocoholic Awards (appetizes\, entrees' & desserts)\n\nChocolate Cocktail Throwdown (shots\, martinis & specialty drinks)\n\nThe Chocolate Station\n\nSponsored by Ocean Crest Resort\n\nAt the Chocolate Station (North Beach Community Center 4576 State Route 109\, Pacific Beach) you'll be spellbound as you watch Chocolatier Demos\, Chef Demos\, and Chocolate Themed Classes. Doors open on Friday 2/28/20 to Sunday 3/1/20. The entrance here also gets you into the Hall of Sweets for the rest of the weekend. Be sure to check the program for the full schedule!\n\nSilent Auction\n\nSaturday from 11am to 7pm at the Chocolate Station. Special items donated to the Chocolate on the Beach Festival are auctioned to the highest bidder. Proceeds will benefit North Beach Events and our Educational\, Historical & Community grants. Bidders will be contacted that evening and can pick up their goodies that night or from 11am to 2pm on Sunday.\n\nRecipe Contest\n\nSponsored by Copalis Beach Grocery\n\nEntries on 2/29/20 9am-11am at Pacific Beach Community Church\n\nAwards 3/1/20 2pm at the Pacific Beach Elementary School\n\nThe goal of this event is to bring families and friends together in the kitchen and out to the beach to make memories and a little bit of our own history! Anyone can enter. Compete with friends! Perfect your favorite Chocolate Recipe! You could win a trophy and bragging rights! Kid's Trophies Sponsored by Copalis Beach Grocery.
X-ALT-DESC;FMTTYPE=text/html:<p style="margin-bottom: 0px\; caret-color: rgb(49\, 49\, 49)\; color: rgb(49\, 49\, 49)\; font-family: open_sansregular\, Arial\, Verdana\, sans-serif\; font-size: 12px\;"><span style="font-size:14px\;"><span style="font-family:arial\;"><strong>13 Magical Miles of Chocolate and More!</strong></span></span></p>\n\n<p style="margin-bottom: 0px\; caret-color: rgb(49\, 49\, 49)\; color: rgb(49\, 49\, 49)\; font-family: open_sansregular\, Arial\, Verdana\, sans-serif\; font-size: 12px\;"><span style="font-size:14px\;"><span style="font-family:arial\;">Vendors\, Magical Costume Contests\, and Raffles\, Oh My! Spend the weekend dressed as your favorite Mythical Being and &ldquo\;Leviosa&rdquo\; your way through 13 Miles of Enchanted Chocolate Events &amp\; Contests! Don&rsquo\;t get into a bewitched situation and miss an event. To reach full ChocoOverload follow us here\, on Facebook and our mobile app for updates\, directions\, and entry forms. We can&rsquo\;t wait to share our festival with you!</span></span></p>\n\n<p style="margin-bottom: 0px\; caret-color: rgb(49\, 49\, 49)\; color: rgb(49\, 49\, 49)\; font-family: open_sansregular\, Arial\, Verdana\, sans-serif\; font-size: 12px\;"><span style="font-size:14px\;"><span style="font-family:arial\;"><strong>PDX Superheroes Coalition and You!</strong><br />\nSponsored by our Partners at Navy Getaways Pacific Beach<br />\nThere will be ensorcelled characters running around the Festival. Family-friendly costumes are encouraged!&nbsp\;<strong>Sunday at 1pm</strong>&nbsp\;in the Vendor&rsquo\;s Hall of Sweets will be a Costume Contest. Kids\, teenagers\, and adults will be judged in their own categories! Sign up in front of the stage at 12:30pm.</span></span></p>\n\n<p style="margin-bottom: 0px\; caret-color: rgb(49\, 49\, 49)\; color: rgb(49\, 49\, 49)\; font-family: open_sansregular\, Arial\, Verdana\, sans-serif\; font-size: 12px\;"><span style="font-size:14px\;"><span style="font-family:arial\;"><strong>Golden Tickets</strong><br />\nWere you lucky enough to score a Golden Ticket?<br />\nThat means you were smart enough to stay with one of our Participating Lodging Providers! Bring your ticket to the&nbsp\;<strong>Info Desk</strong>\, located at Pacific Beach Elementary School in order to be entered to win Chocolate OR a stay with our Participating Lodging Providers!</span></span></p>\n\n<p style="margin-bottom: 0px\; caret-color: rgb(49\, 49\, 49)\; color: rgb(49\, 49\, 49)\; font-family: open_sansregular\, Arial\, Verdana\, sans-serif\; font-size: 12px\;"><span style="font-size:14px\;"><span style="font-family:arial\;"><strong>Chocolate Vendor&rsquo\;s Hall of Sweets</strong><br />\nSaturday 2/29/20 10am-5pm &bull\; Sunday 3/1/20 11am-4pm<br />\nAll the vendors will be located in and in front of the Pacific Beach Elementary school (11 4th St S. Pacific Beach). Here you will find chocolatiers\, artists and crafters sampling and selling all of their chocolate wares.</span></span></p>\n\n<p style="margin-bottom: 0px\; caret-color: rgb(49\, 49\, 49)\; color: rgb(49\, 49\, 49)\; font-family: open_sansregular\, Arial\, Verdana\, sans-serif\; font-size: 12px\;"><span style="font-size:14px\;"><span style="font-family:arial\;"><strong>Festival Souvenir Shop</strong><br />\nSponsored by Cheri&rsquo\;s Embroidery<br />\nWe&rsquo\;ve got some really exciting new items! Canvas shopping bags\, decals and more! Don&rsquo\;t forget to get your shirt personalized on your way through Copalis Crossing! Cheri&rsquo\;s Embroidery is also on Facebook!</span></span></p>\n\n<p style="margin-bottom: 0px\; caret-color: rgb(49\, 49\, 49)\; color: rgb(49\, 49\, 49)\; font-family: open_sansregular\, Arial\, Verdana\, sans-serif\; font-size: 12px\;"><span style="font-size:14px\;"><span style="font-family:arial\;"><strong>Magical Themed Costume Contest</strong><br />\nOur special Portland guests will help the crowd decide which kid\, teenager and adult are the most magical looking and win a Magical prize! This will be Sunday\, on the&nbsp\;<strong>main stage at 1pm.</strong></span></span></p>\n\n<p style="margin-bottom: 0px\; caret-color: rgb(49\, 49\, 49)\; color: rgb(49\, 49\, 49)\; font-family: open_sansregular\, Arial\, Verdana\, sans-serif\; font-size: 12px\;"><span style="font-size:14px\;"><span style="font-family:arial\;"><strong>Chocolate Eating Contest</strong><br />\nThis annual event is just as amazing as it sounds! On Sunday kids\, teenagers &amp\; adults compete to reach the bottom of their plate of chocolate pudding to win fun prizes!&nbsp\;<strong>Registration is at 1:30pm</strong>.</span></span></p>\n\n<p style="margin-bottom: 0px\; caret-color: rgb(49\, 49\, 49)\; color: rgb(49\, 49\, 49)\; font-family: open_sansregular\, Arial\, Verdana\, sans-serif\; font-size: 12px\;"><span style="font-size:14px\;"><span style="font-family:arial\;"><strong>Year of Chocolate Raffle</strong><br />\nWho wants to win a Year of Chocolate?<br />\nThe winner will receive one pound of gourmet chocolates delivered to their home every month for a year! Tickets are only&nbsp\;<strong>$1 each</strong>&nbsp\;will be available during the Festival at the Official Raffle Ticket Booth and at the Chocolate Station.</span></span></p>\n\n<p style="margin-bottom: 0px\; caret-color: rgb(49\, 49\, 49)\; color: rgb(49\, 49\, 49)\; font-family: open_sansregular\, Arial\, Verdana\, sans-serif\; font-size: 12px\;"><span style="font-size:14px\;"><span style="font-family:arial\;"><strong>People&rsquo\;s Choice Awards</strong><br />\nWant to reward yourself for being a Chocoholic? We have three contests going with our local businesses! Voting starts at&nbsp\;<strong>4pm Thursday and runs through Sunday at Noon!</strong>&nbsp\;Ballots will be available in the Festival program and at participating locations.</span></span></p>\n\n<p style="margin-bottom: 0px\; caret-color: rgb(49\, 49\, 49)\; color: rgb(49\, 49\, 49)\; font-family: open_sansregular\, Arial\, Verdana\, sans-serif\; font-size: 12px\;"><span style="font-size:14px\;"><span style="font-family:arial\;">Battle of the Bean (hot &amp\; cold coffee drinks)<br />\nChocoholic Awards (appetizes\, entrees&rsquo\; &amp\; desserts)<br />\nChocolate Cocktail Throwdown (shots\, martinis &amp\; specialty drinks)</span></span></p>\n\n<p style="margin-bottom: 0px\; caret-color: rgb(49\, 49\, 49)\; color: rgb(49\, 49\, 49)\; font-family: open_sansregular\, Arial\, Verdana\, sans-serif\; font-size: 12px\;"><span style="font-size:14px\;"><span style="font-family:arial\;"><strong>The Chocolate Station</strong><br />\nSponsored by Ocean Crest Resort<br />\nAt the Chocolate Station (North Beach Community Center 4576 State Route 109\, Pacific Beach) you&rsquo\;ll be spellbound as you watch Chocolatier Demos\, Chef Demos\, and Chocolate Themed Classes. Doors open on&nbsp\;<strong>Friday 2/28/20 to Sunday 3/1/20</strong>. The entrance here also gets you into the Hall of Sweets for the rest of the weekend. Be sure to check the program for the full schedule!</span></span></p>\n\n<p style="margin-bottom: 0px\; caret-color: rgb(49\, 49\, 49)\; color: rgb(49\, 49\, 49)\; font-family: open_sansregular\, Arial\, Verdana\, sans-serif\; font-size: 12px\;"><span style="font-size:14px\;"><span style="font-family:arial\;"><strong>Silent Auction</strong><br />\nSaturday from 11am to 7pm at the Chocolate Station. Special items donated to the Chocolate on the Beach Festival are auctioned to the highest bidder. Proceeds will benefit North Beach Events and our Educational\, Historical &amp\; Community grants. Bidders will be contacted that evening and can pick up their goodies<strong>&nbsp\;that night</strong>&nbsp\;or from 11am to 2pm on Sunday.</span></span></p>\n\n<p style="margin-bottom: 0px\; caret-color: rgb(49\, 49\, 49)\; color: rgb(49\, 49\, 49)\; font-family: open_sansregular\, Arial\, Verdana\, sans-serif\; font-size: 12px\;"><span style="font-size:14px\;"><span style="font-family:arial\;"><strong>Recipe Contest</strong><br />\nSponsored by Copalis Beach Grocery</span></span></p>\n\n<p style="margin-bottom: 0px\; caret-color: rgb(49\, 49\, 49)\; color: rgb(49\, 49\, 49)\; font-family: open_sansregular\, Arial\, Verdana\, sans-serif\; font-size: 12px\;"><span style="font-size:14px\;"><span style="font-family:arial\;">Entries on 2/29/20 9am-11am at Pacific Beach Community Church<br />\nAwards 3/1/20 2pm at the Pacific Beach Elementary School</span></span></p>\n\n<p style="margin-bottom: 0px\; caret-color: rgb(49\, 49\, 49)\; color: rgb(49\, 49\, 49)\; font-family: open_sansregular\, Arial\, Verdana\, sans-serif\; font-size: 12px\;"><span style="font-size:14px\;"><span style="font-family:arial\;">The goal of this event is to bring families and friends together in the kitchen and out to the beach to make memories and a little bit of our own history! Anyone can enter. Compete with friends! Perfect your favorite Chocolate Recipe! You could win a trophy and bragging rights! Kid&rsquo\;s Trophies Sponsored by Copalis Beach Grocery.</span></span></p>\n
LOCATION:
UID:e.26.12356
SEQUENCE:3
DTSTAMP:20260424T013546Z
URL:https://chamber.graysharbor.org/events/details/chocolate-on-the-beach-festival-12356
END:VEVENT

END:VCALENDAR
