BEGIN:VCALENDAR
VERSION:2.0
PRODID:-//ChamberMaster//Event Calendar 2.0//EN
METHOD:PUBLISH
X-PUBLISHED-TTL:P3D
REFRESH-INTERVAL:P3D
CALSCALE:GREGORIAN
BEGIN:VEVENT
DTSTART:20190607T190000Z
DTEND:20190607T200000Z
X-MICROSOFT-CDO-ALLDAYEVENT:FALSE
SUMMARY:Chowder Bowl Fridays at Channel Point Village
DESCRIPTION:The Bowl is Back - By Popular Demand!\n\n \n\nChowder Bowl Fridays return to Channel Point Village!\n\n \n\nJoin us every Friday for a delicious lunch of homemade clam chowder in a bread bowl\, accompanied by a tasty lemon bar. Lunch is $5 and funds raised will benefit the Aberdeen and Hoquiam Senior Centers. To reserve your lunch\, please call by 5 pm on the prior Thursday - (360)532-9000. If you will be joining us for lunch\, that begins at noon. Take out orders will be ready for pick up at 12:30 pm.
X-ALT-DESC;FMTTYPE=text/html:<div style="color: rgb(51\, 51\, 51)\; font-family: sans-serif\, Arial\, Verdana\, &quot\;Trebuchet MS&quot\;\; font-size: 13px\;">The Bowl is Back - By Popular Demand!</div>\n\n<div style="color: rgb(51\, 51\, 51)\; font-family: sans-serif\, Arial\, Verdana\, &quot\;Trebuchet MS&quot\;\; font-size: 13px\;">&nbsp\;</div>\n\n<div style="color: rgb(51\, 51\, 51)\; font-family: sans-serif\, Arial\, Verdana\, &quot\;Trebuchet MS&quot\;\; font-size: 13px\;">Chowder Bowl Fridays return to Channel Point Village!</div>\n\n<div style="color: rgb(51\, 51\, 51)\; font-family: sans-serif\, Arial\, Verdana\, &quot\;Trebuchet MS&quot\;\; font-size: 13px\;">&nbsp\;</div>\n\n<div style="color: rgb(51\, 51\, 51)\; font-family: sans-serif\, Arial\, Verdana\, &quot\;Trebuchet MS&quot\;\; font-size: 13px\;">Join us every Friday for a delicious lunch of homemade clam chowder in a bread bowl\, accompanied by a tasty lemon bar. Lunch is $5 and funds raised will benefit the Aberdeen and Hoquiam Senior Centers. To reserve your lunch\, please call by 5 pm on the prior Thursday - (360)532-9000. If you will be joining us<span style="color: rgb(34\, 34\, 34)\; font-family: arial\, sans-serif\; font-size: small\;">&nbsp\;for lunch\, that begins at noon. Take out orders will be ready for pick up at 12:30 pm.</span></div>\n
LOCATION:Channel Point Village 907 K Street Hoquiam\, WA 98550
UID:e.26.11149
SEQUENCE:3
DTSTAMP:20260424T133247Z
URL:https://chamber.graysharbor.org/events/details/chowder-bowl-fridays-at-channel-point-village-06-07-2019-11149
END:VEVENT

END:VCALENDAR
