BEGIN:VCALENDAR
VERSION:2.0
PRODID:-//ChamberMaster//Event Calendar 2.0//EN
METHOD:PUBLISH
X-PUBLISHED-TTL:P3D
REFRESH-INTERVAL:P3D
CALSCALE:GREGORIAN
BEGIN:VEVENT
DTSTART:20181225T010000Z
DTEND:20181225T070000Z
X-MICROSOFT-CDO-ALLDAYEVENT:FALSE
SUMMARY:Christmas Eve 5 pm Candlelight Services
DESCRIPTION:Come Celebrate GOD's Greatest Gift this Christmas Eve\, Mon\, Dec 24\, 2018 - Candlelight Services at 5 pm & 10 pm - First Presbyterian Church of Aberdeen\, 420 N Broadway\, Aberdeen\, WA | 360.532.1330
X-ALT-DESC;FMTTYPE=text/html:Come Celebrate GOD&#39\;s Greatest Gift this Christmas Eve\, Mon\, Dec 24\, 2018 - Candlelight Services at 5 pm &amp\; 10 pm - First Presbyterian Church of Aberdeen\, 420 N Broadway\, Aberdeen\, WA | 360.532.1330
LOCATION:420 N Broadway\, Aberdeen\, WA 98520
UID:e.26.11395
SEQUENCE:3
DTSTAMP:20260424T224431Z
URL:https://chamber.graysharbor.org/events/details/christmas-eve-5-pm-candlelight-services-11395
END:VEVENT

END:VCALENDAR
